BEGIN:VCALENDAR
VERSION:2.0
PRODID:-//AusschreibungsRadar//Timeline//DE
CALSCALE:GREGORIAN
METHOD:PUBLISH
X-WR-CALNAME:Projekt Transparenzbekanntmachung, Erweiterung und brandschutztechni
X-WR-TIMEZONE:Europe/Berlin
BEGIN:VEVENT
UID:eadf456b7808b64b@ausschreibungsradar.com
DTSTAMP:20260424T211552Z
DTSTART;VALUE=DATE:20260114
DTEND;VALUE=DATE:20260114
SUMMARY:Ausschreibung — Transparenzbekanntmachung\, Erweiterung und brandschutztechni
DESCRIPTION:Phase: Ausschreibung | Beschreibung: Offizielle Ausschreibung mit Bieterfrist. | Link: https://ausschreibungsradar.com/ausschreibung/24864236/
URL:https://ausschreibungsradar.com/ausschreibung/24864236/
END:VEVENT
BEGIN:VEVENT
UID:526b10405a8bf896@ausschreibungsradar.com
DTSTAMP:20260424T211552Z
DTSTART;VALUE=DATE:20260122
DTEND;VALUE=DATE:20260122
SUMMARY:Ausschreibung — Transparenzbekanntmachung\, Erweiterung und brandschutztechni
DESCRIPTION:Phase: Ausschreibung | Beschreibung: Offizielle Ausschreibung mit Bieterfrist. | Link: https://ausschreibungsradar.com/ausschreibung/24896076/
URL:https://ausschreibungsradar.com/ausschreibung/24896076/
END:VEVENT
END:VCALENDAR
