BEGIN:VCALENDAR
VERSION:2.0
PRODID:-//AusschreibungsRadar//Timeline//DE
CALSCALE:GREGORIAN
METHOD:PUBLISH
X-WR-CALNAME:Projekt S13 - Los 6.001- 3/4 gleisiger Ausbau Bonn-Oberkassel 
X-WR-TIMEZONE:Europe/Berlin
BEGIN:VEVENT
UID:46bd594583dbb843@ausschreibungsradar.com
DTSTAMP:20260424T193051Z
DTSTART;VALUE=DATE:20260306
DTEND;VALUE=DATE:20260306
SUMMARY:Vertragsmodifikation — S13 - Los 6.001- 3/4 gleisiger Ausbau Bonn-Oberkassel 
DESCRIPTION:Phase: Vertragsmodifikation | Beschreibung: Änderung am bestehenden Vertrag nach Zuschlag. | Link: https://ausschreibungsradar.com/ausschreibung/836c13fe-776f-4d53-afca-8e919805ed9f/
URL:https://ausschreibungsradar.com/ausschreibung/836c13fe-776f-4d53-afca-8e919805ed9f/
END:VEVENT
BEGIN:VEVENT
UID:b74fd4fc4c943d52@ausschreibungsradar.com
DTSTAMP:20260424T193051Z
DTSTART;VALUE=DATE:20260317
DTEND;VALUE=DATE:20260317
SUMMARY:Vertragsmodifikation — S13 - Los 6.001- 3/4 gleisiger Ausbau Bonn-Oberkassel 
DESCRIPTION:Phase: Vertragsmodifikation | Beschreibung: Änderung am bestehenden Vertrag nach Zuschlag. | Link: https://ausschreibungsradar.com/ausschreibung/10fb3522-6a80-409f-82e1-43e01ee8236e/
URL:https://ausschreibungsradar.com/ausschreibung/10fb3522-6a80-409f-82e1-43e01ee8236e/
END:VEVENT
BEGIN:VEVENT
UID:ca40d342aa224e43@ausschreibungsradar.com
DTSTAMP:20260424T193051Z
DTSTART;VALUE=DATE:20260318
DTEND;VALUE=DATE:20260318
SUMMARY:Vertragsmodifikation — S13 - Los 6.001- 3/4 gleisiger Ausbau Bonn-Oberkassel 
DESCRIPTION:Phase: Vertragsmodifikation | Beschreibung: Änderung am bestehenden Vertrag nach Zuschlag. | Link: https://ausschreibungsradar.com/ausschreibung/8aabbe30-f8bd-4b74-9282-a33f46086574/
URL:https://ausschreibungsradar.com/ausschreibung/8aabbe30-f8bd-4b74-9282-a33f46086574/
END:VEVENT
BEGIN:VEVENT
UID:ab02110e0b1aef90@ausschreibungsradar.com
DTSTAMP:20260424T193051Z
DTSTART;VALUE=DATE:20260414
DTEND;VALUE=DATE:20260414
SUMMARY:Vertragsmodifikation — S13 - Los 6.001- 3/4 gleisiger Ausbau Bonn-Oberkassel 
DESCRIPTION:Phase: Vertragsmodifikation | Beschreibung: Änderung am bestehenden Vertrag nach Zuschlag. | Link: https://ausschreibungsradar.com/ausschreibung/953887a1-ef0a-44fb-9988-95a3a0ff594f/
URL:https://ausschreibungsradar.com/ausschreibung/953887a1-ef0a-44fb-9988-95a3a0ff594f/
END:VEVENT
BEGIN:VEVENT
UID:3e5e0133b3406e12@ausschreibungsradar.com
DTSTAMP:20260424T193051Z
DTSTART;VALUE=DATE:20260415
DTEND;VALUE=DATE:20260415
SUMMARY:Vertragsänderung — S13 - Los 6.001- 3/4 gleisiger Ausbau Bonn-Oberkassel 
DESCRIPTION:Phase: Vertragsänderung | Beschreibung: Zusätzliche Lieferungen/Leistungen beauftragt | Link: https://ausschreibungsradar.com/ausschreibung/248b9dcb-0401-42b3-a8c8-8287ec897a9d/
URL:https://ausschreibungsradar.com/ausschreibung/248b9dcb-0401-42b3-a8c8-8287ec897a9d/
END:VEVENT
BEGIN:VEVENT
UID:c373662ab72f3501@ausschreibungsradar.com
DTSTAMP:20260424T193051Z
DTSTART;VALUE=DATE:20260415
DTEND;VALUE=DATE:20260415
SUMMARY:Vertragsmodifikation — S13 - Los 6.001- 3/4 gleisiger Ausbau Bonn-Oberkassel 
DESCRIPTION:Phase: Vertragsmodifikation | Beschreibung: Änderung am bestehenden Vertrag nach Zuschlag. | Link: https://ausschreibungsradar.com/ausschreibung/4be62c4f-cfd8-4815-929d-684e40b2e033/
URL:https://ausschreibungsradar.com/ausschreibung/4be62c4f-cfd8-4815-929d-684e40b2e033/
END:VEVENT
END:VCALENDAR
