BEGIN:VCALENDAR
VERSION:2.0
PRODID:-//AusschreibungsRadar//Timeline//DE
CALSCALE:GREGORIAN
METHOD:PUBLISH
X-WR-CALNAME:Projekt Erbringung von Leistungen im Bereich Produktion
X-WR-TIMEZONE:Europe/Berlin
BEGIN:VEVENT
UID:1c0e685dd8f77545@ausschreibungsradar.com
DTSTAMP:20260424T020514Z
DTSTART;VALUE=DATE:20260109
DTEND;VALUE=DATE:20260109
SUMMARY:Ausschreibung — Erbringung von Leistungen im Bereich Produktion
DESCRIPTION:Phase: Ausschreibung | Beschreibung: Offizielle Ausschreibung mit Bieterfrist. | Link: https://ausschreibungsradar.com/ausschreibung/24852626/
URL:https://ausschreibungsradar.com/ausschreibung/24852626/
END:VEVENT
BEGIN:VEVENT
UID:04060a0a982aa89a@ausschreibungsradar.com
DTSTAMP:20260424T020514Z
DTSTART;VALUE=DATE:20260127
DTEND;VALUE=DATE:20260127
SUMMARY:Ausschreibung — Erbringung von Leistungen im Bereich Produktion
DESCRIPTION:Phase: Ausschreibung | Beschreibung: Offizielle Ausschreibung mit Bieterfrist. | Link: https://ausschreibungsradar.com/ausschreibung/24917870/
URL:https://ausschreibungsradar.com/ausschreibung/24917870/
END:VEVENT
BEGIN:VEVENT
UID:e14e62c199398475@ausschreibungsradar.com
DTSTAMP:20260424T020514Z
DTSTART;VALUE=DATE:20260127
DTEND;VALUE=DATE:20260127
SUMMARY:Ausschreibung — Erbringung von Leistungen im Bereich Produktion
DESCRIPTION:Phase: Ausschreibung | Beschreibung: Offizielle Ausschreibung mit Bieterfrist. | Link: https://ausschreibungsradar.com/ausschreibung/24917878/
URL:https://ausschreibungsradar.com/ausschreibung/24917878/
END:VEVENT
END:VCALENDAR
