BEGIN:VCALENDAR
VERSION:2.0
PRODID:-//AusschreibungsRadar//Timeline//DE
CALSCALE:GREGORIAN
METHOD:PUBLISH
X-WR-CALNAME:Projekt Planungsleistung Freianlagen nach HOAI 2021, LPH 1-3 und 5-8
X-WR-TIMEZONE:Europe/Berlin
BEGIN:VEVENT
UID:ad939ff8dea70ef1@ausschreibungsradar.com
DTSTAMP:20260424T192015Z
DTSTART;VALUE=DATE:20260105
DTEND;VALUE=DATE:20260105
SUMMARY:Zuschlag — Planungsleistung Freianlagen nach HOAI 2021\, LPH 1-3 und 5-8
DESCRIPTION:Phase: Zuschlag | Beschreibung: Vergabeergebnis — Auftrag wurde erteilt oder Verfahren beendet. | Link: https://ausschreibungsradar.com/ausschreibung/24835556/
URL:https://ausschreibungsradar.com/ausschreibung/24835556/
END:VEVENT
BEGIN:VEVENT
UID:3fabcedf8271756f@ausschreibungsradar.com
DTSTAMP:20260424T192015Z
DTSTART;VALUE=DATE:20260127
DTEND;VALUE=DATE:20260127
SUMMARY:Zuschlag — Planungsleistung Freianlagen nach HOAI 2021\, LPH 1-3 und 5-8
DESCRIPTION:Phase: Zuschlag | Beschreibung: Vergabeergebnis — Auftrag wurde erteilt oder Verfahren beendet. | Link: https://ausschreibungsradar.com/ausschreibung/24917934/
URL:https://ausschreibungsradar.com/ausschreibung/24917934/
END:VEVENT
END:VCALENDAR
