BEGIN:VCALENDAR
VERSION:2.0
PRODID:-//AusschreibungsRadar//Timeline//DE
CALSCALE:GREGORIAN
METHOD:PUBLISH
X-WR-CALNAME:Projekt Vergebener Auftrag gemäß §20(3) VOB/A
X-WR-TIMEZONE:Europe/Berlin
BEGIN:VEVENT
UID:f4bb0254c7966c89@ausschreibungsradar.com
DTSTAMP:20260426T005547Z
DTSTART;VALUE=DATE:20260203
DTEND;VALUE=DATE:20260203
SUMMARY:Zuschlag — Vergebener Auftrag gemäß §20(3) VOB/A
DESCRIPTION:Phase: Zuschlag | Beschreibung: Vergabeergebnis — Auftrag wurde erteilt oder Verfahren beendet. | Link: https://ausschreibungsradar.com/ausschreibung/24943954/
URL:https://ausschreibungsradar.com/ausschreibung/24943954/
END:VEVENT
BEGIN:VEVENT
UID:96481989a8dafff5@ausschreibungsradar.com
DTSTAMP:20260426T005547Z
DTSTART;VALUE=DATE:20260303
DTEND;VALUE=DATE:20260303
SUMMARY:Zuschlag — Vergebener Auftrag gemäß §20(3) VOB/A
DESCRIPTION:Phase: Zuschlag | Beschreibung: Vergabeergebnis — Auftrag wurde erteilt oder Verfahren beendet. | Link: https://ausschreibungsradar.com/ausschreibung/25058268/
URL:https://ausschreibungsradar.com/ausschreibung/25058268/
END:VEVENT
END:VCALENDAR
