BEGIN:VCALENDAR
VERSION:2.0
PRODID:-//AusschreibungsRadar//Timeline//DE
CALSCALE:GREGORIAN
METHOD:PUBLISH
X-WR-CALNAME:Projekt Am Pferdemarkt 23-26, Neubau SÖR Betriebszentrale, Spinde
X-WR-TIMEZONE:Europe/Berlin
BEGIN:VEVENT
UID:647a8df31f4e6ff4@ausschreibungsradar.com
DTSTAMP:20260425T235919Z
DTSTART;VALUE=DATE:20251028
DTEND;VALUE=DATE:20251028
SUMMARY:Ausschreibung — Am Pferdemarkt 23-26\, Neubau SÖR Betriebszentrale\, Spinde
DESCRIPTION:Phase: Ausschreibung | Beschreibung: Offizielle Ausschreibung mit Bieterfrist. | Link: https://ausschreibungsradar.com/ausschreibung/591ebf94-3ebd-4a0c-8b3a-610812e2e3f0/
URL:https://ausschreibungsradar.com/ausschreibung/591ebf94-3ebd-4a0c-8b3a-610812e2e3f0/
END:VEVENT
BEGIN:VEVENT
UID:35a931455b5c96f3@ausschreibungsradar.com
DTSTAMP:20260425T235919Z
DTSTART;VALUE=DATE:20251127
DTEND;VALUE=DATE:20251127
SUMMARY:Ausschreibung — Am Pferdemarkt 23-26\, Neubau SÖR Betriebszentrale\, Spinde
DESCRIPTION:Phase: Ausschreibung | Beschreibung: Angebote werden eingeholt | Link: https://ausschreibungsradar.com/ausschreibung/24bddda3-7b84-475e-98f0-880658bfe40f/
URL:https://ausschreibungsradar.com/ausschreibung/24bddda3-7b84-475e-98f0-880658bfe40f/
END:VEVENT
BEGIN:VEVENT
UID:54491cae215f9b94@ausschreibungsradar.com
DTSTAMP:20260425T235919Z
DTSTART;VALUE=DATE:20251127
DTEND;VALUE=DATE:20251127
SUMMARY:Ausschreibung — Am Pferdemarkt 23-26\, Neubau SÖR Betriebszentrale\, Spinde
DESCRIPTION:Phase: Ausschreibung | Beschreibung: Offizielle Ausschreibung mit Bieterfrist. | Link: https://ausschreibungsradar.com/ausschreibung/d847ea92-6cc5-4d93-bbf0-37f70f4e5559/
URL:https://ausschreibungsradar.com/ausschreibung/d847ea92-6cc5-4d93-bbf0-37f70f4e5559/
END:VEVENT
BEGIN:VEVENT
UID:04cb7f053b867648@ausschreibungsradar.com
DTSTAMP:20260425T235919Z
DTSTART;VALUE=DATE:20251204
DTEND;VALUE=DATE:20251204
SUMMARY:Zuschlag — Am Pferdemarkt 23-26\, Neubau SÖR Betriebszentrale\, Spinde
DESCRIPTION:Phase: Zuschlag | Beschreibung: Vergabeergebnis — Auftrag wurde erteilt oder Verfahren beendet. | Link: https://ausschreibungsradar.com/ausschreibung/3a62f470-0e72-4f12-8c58-16ba3063a051/
URL:https://ausschreibungsradar.com/ausschreibung/3a62f470-0e72-4f12-8c58-16ba3063a051/
END:VEVENT
BEGIN:VEVENT
UID:fc7cc4238b921bb0@ausschreibungsradar.com
DTSTAMP:20260425T235919Z
DTSTART;VALUE=DATE:20260303
DTEND;VALUE=DATE:20260303
SUMMARY:Vergabeergebnis — Am Pferdemarkt 23-26\, Neubau SÖR Betriebszentrale\, Spinde
DESCRIPTION:Phase: Vergabeergebnis | Beschreibung: Auftrag wurde zugeschlagen | Link: https://ausschreibungsradar.com/ausschreibung/b1362755-3c8b-40cf-9cbd-2d72a768afd5/
URL:https://ausschreibungsradar.com/ausschreibung/b1362755-3c8b-40cf-9cbd-2d72a768afd5/
END:VEVENT
END:VCALENDAR
