BEGIN:VCALENDAR
VERSION:2.0
PRODID:-//AusschreibungsRadar//Timeline//DE
CALSCALE:GREGORIAN
METHOD:PUBLISH
X-WR-CALNAME:Projekt Generalsanierung Grundschule Kirchroth - 12 Fassadenarbeiten
X-WR-TIMEZONE:Europe/Berlin
BEGIN:VEVENT
UID:8c6ce99ae19502bb@ausschreibungsradar.com
DTSTAMP:20260425T102534Z
DTSTART;VALUE=DATE:20241126
DTEND;VALUE=DATE:20241126
SUMMARY:Angebotsfrist — Generalsanierung Grundschule Kirchroth - 12 Fassadenarbeiten
DESCRIPTION:Phase: Ausschreibung | Beschreibung: Angebote werden eingeholt | Link: https://ausschreibungsradar.com/ausschreibung/0bcf17ca-73cc-4f2e-9479-184dcf842f91/
URL:https://ausschreibungsradar.com/ausschreibung/0bcf17ca-73cc-4f2e-9479-184dcf842f91/
END:VEVENT
BEGIN:VEVENT
UID:825fbc32ed429357@ausschreibungsradar.com
DTSTAMP:20260425T102534Z
DTSTART;VALUE=DATE:20250122
DTEND;VALUE=DATE:20250122
SUMMARY:Vergabeergebnis — Generalsanierung Grundschule Kirchroth - 12 Fassadenarbeiten
DESCRIPTION:Phase: Vergabeergebnis | Beschreibung: Auftrag wurde zugeschlagen | Link: https://ausschreibungsradar.com/ausschreibung/24d68a5a-ba31-4b4a-8c16-8fa3790b25a2/
URL:https://ausschreibungsradar.com/ausschreibung/24d68a5a-ba31-4b4a-8c16-8fa3790b25a2/
END:VEVENT
END:VCALENDAR
