BEGIN:VCALENDAR
VERSION:2.0
PRODID:-//AusschreibungsRadar//Timeline//DE
CALSCALE:GREGORIAN
METHOD:PUBLISH
X-WR-CALNAME:Projekt Salzlandkreis, Brandschutztechnische Ertüchtigung Gemeinscha
X-WR-TIMEZONE:Europe/Berlin
BEGIN:VEVENT
UID:9cb72fe960d5ec9e@ausschreibungsradar.com
DTSTAMP:20260424T090017Z
DTSTART;VALUE=DATE:20260218
DTEND;VALUE=DATE:20260218
SUMMARY:Ausschreibung — Salzlandkreis\, Brandschutztechnische Ertüchtigung Gemeinscha
DESCRIPTION:Phase: Ausschreibung | Beschreibung: Offizielle Ausschreibung mit Bieterfrist. | Link: https://ausschreibungsradar.com/ausschreibung/25004800/
URL:https://ausschreibungsradar.com/ausschreibung/25004800/
END:VEVENT
BEGIN:VEVENT
UID:1926410f86c4735c@ausschreibungsradar.com
DTSTAMP:20260424T090017Z
DTSTART;VALUE=DATE:20260218
DTEND;VALUE=DATE:20260218
SUMMARY:Ausschreibung — Salzlandkreis\, Brandschutztechnische Ertüchtigung Gemeinscha
DESCRIPTION:Phase: Ausschreibung | Beschreibung: Offizielle Ausschreibung mit Bieterfrist. | Link: https://ausschreibungsradar.com/ausschreibung/25004804/
URL:https://ausschreibungsradar.com/ausschreibung/25004804/
END:VEVENT
BEGIN:VEVENT
UID:632a8b2cc46a3a9a@ausschreibungsradar.com
DTSTAMP:20260424T090017Z
DTSTART;VALUE=DATE:20260219
DTEND;VALUE=DATE:20260219
SUMMARY:Ausschreibung — Salzlandkreis\, Brandschutztechnische Ertüchtigung Gemeinscha
DESCRIPTION:Phase: Ausschreibung | Beschreibung: Offizielle Ausschreibung mit Bieterfrist. | Link: https://ausschreibungsradar.com/ausschreibung/25010374/
URL:https://ausschreibungsradar.com/ausschreibung/25010374/
END:VEVENT
BEGIN:VEVENT
UID:1347ed90722e9e99@ausschreibungsradar.com
DTSTAMP:20260424T090017Z
DTSTART;VALUE=DATE:20260219
DTEND;VALUE=DATE:20260219
SUMMARY:Ausschreibung — Salzlandkreis\, Brandschutztechnische Ertüchtigung Gemeinscha
DESCRIPTION:Phase: Ausschreibung | Beschreibung: Offizielle Ausschreibung mit Bieterfrist. | Link: https://ausschreibungsradar.com/ausschreibung/25010370/
URL:https://ausschreibungsradar.com/ausschreibung/25010370/
END:VEVENT
BEGIN:VEVENT
UID:3367a1b300d18ecf@ausschreibungsradar.com
DTSTAMP:20260424T090017Z
DTSTART;VALUE=DATE:20260316
DTEND;VALUE=DATE:20260316
SUMMARY:Ausschreibung — Salzlandkreis\, Brandschutztechnische Ertüchtigung Gemeinscha
DESCRIPTION:Phase: Ausschreibung | Beschreibung: Offizielle Ausschreibung mit Bieterfrist. | Link: https://ausschreibungsradar.com/ausschreibung/25113726/
URL:https://ausschreibungsradar.com/ausschreibung/25113726/
END:VEVENT
BEGIN:VEVENT
UID:ae1a0310e52970c0@ausschreibungsradar.com
DTSTAMP:20260424T090017Z
DTSTART;VALUE=DATE:20260316
DTEND;VALUE=DATE:20260316
SUMMARY:Ausschreibung — Salzlandkreis\, Brandschutztechnische Ertüchtigung Gemeinscha
DESCRIPTION:Phase: Ausschreibung | Beschreibung: Offizielle Ausschreibung mit Bieterfrist. | Link: https://ausschreibungsradar.com/ausschreibung/25113734/
URL:https://ausschreibungsradar.com/ausschreibung/25113734/
END:VEVENT
END:VCALENDAR
