BEGIN:VCALENDAR
VERSION:2.0
PRODID:-//AusschreibungsRadar//Timeline//DE
CALSCALE:GREGORIAN
METHOD:PUBLISH
X-WR-CALNAME:Projekt Straßenbauarbeiten
X-WR-TIMEZONE:Europe/Berlin
BEGIN:VEVENT
UID:269706e5f4c8fac8@ausschreibungsradar.com
DTSTAMP:20260424T020520Z
DTSTART;VALUE=DATE:20260219
DTEND;VALUE=DATE:20260219
SUMMARY:Ausschreibung — Straßenbauarbeiten
DESCRIPTION:Phase: Ausschreibung | Beschreibung: Offizielle Ausschreibung mit Bieterfrist. | Link: https://ausschreibungsradar.com/ausschreibung/25012398/
URL:https://ausschreibungsradar.com/ausschreibung/25012398/
END:VEVENT
BEGIN:VEVENT
UID:f9d61ac4c2e15b51@ausschreibungsradar.com
DTSTAMP:20260424T020520Z
DTSTART;VALUE=DATE:20260317
DTEND;VALUE=DATE:20260317
SUMMARY:Ausschreibung — Straßenbauarbeiten
DESCRIPTION:Phase: Ausschreibung | Beschreibung: Offizielle Ausschreibung mit Bieterfrist. | Link: https://ausschreibungsradar.com/ausschreibung/25121144/
URL:https://ausschreibungsradar.com/ausschreibung/25121144/
END:VEVENT
END:VCALENDAR
