BEGIN:VCALENDAR
VERSION:2.0
PRODID:-//AusschreibungsRadar//Timeline//DE
CALSCALE:GREGORIAN
METHOD:PUBLISH
X-WR-CALNAME:Projekt Neubau eines Feuerwehrhauses - Estricharbeiten
X-WR-TIMEZONE:Europe/Berlin
BEGIN:VEVENT
UID:f0a68bcd814cde22@ausschreibungsradar.com
DTSTAMP:20260423T232941Z
DTSTART;VALUE=DATE:20260224
DTEND;VALUE=DATE:20260224
SUMMARY:Ausschreibung — Neubau eines Feuerwehrhauses - Estricharbeiten
DESCRIPTION:Phase: Ausschreibung | Beschreibung: Offizielle Ausschreibung mit Bieterfrist. | Link: https://ausschreibungsradar.com/ausschreibung/25032472/
URL:https://ausschreibungsradar.com/ausschreibung/25032472/
END:VEVENT
BEGIN:VEVENT
UID:48fae67dfcdb9c3e@ausschreibungsradar.com
DTSTAMP:20260423T232941Z
DTSTART;VALUE=DATE:20260224
DTEND;VALUE=DATE:20260224
SUMMARY:Ausschreibung — Neubau eines Feuerwehrhauses - Estricharbeiten
DESCRIPTION:Phase: Ausschreibung | Beschreibung: Offizielle Ausschreibung mit Bieterfrist. | Link: https://ausschreibungsradar.com/ausschreibung/25032476/
URL:https://ausschreibungsradar.com/ausschreibung/25032476/
END:VEVENT
BEGIN:VEVENT
UID:f0d2add5aa49bdf2@ausschreibungsradar.com
DTSTAMP:20260423T232941Z
DTSTART;VALUE=DATE:20260224
DTEND;VALUE=DATE:20260224
SUMMARY:Ausschreibung — Neubau eines Feuerwehrhauses - Estricharbeiten
DESCRIPTION:Phase: Ausschreibung | Beschreibung: Offizielle Ausschreibung mit Bieterfrist. | Link: https://ausschreibungsradar.com/ausschreibung/25032468/
URL:https://ausschreibungsradar.com/ausschreibung/25032468/
END:VEVENT
END:VCALENDAR
