BEGIN:VCALENDAR
VERSION:2.0
PRODID:-//AusschreibungsRadar//Timeline//DE
CALSCALE:GREGORIAN
METHOD:PUBLISH
X-WR-CALNAME:Projekt Ausführung von Bauleistungen
X-WR-TIMEZONE:Europe/Berlin
BEGIN:VEVENT
UID:38f5e6748cdc2b97@ausschreibungsradar.com
DTSTAMP:20260424T012502Z
DTSTART;VALUE=DATE:20260127
DTEND;VALUE=DATE:20260127
SUMMARY:Ausschreibung — Ausführung von Bauleistungen
DESCRIPTION:Phase: Ausschreibung | Beschreibung: Offizielle Ausschreibung mit Bieterfrist. | Link: https://ausschreibungsradar.com/ausschreibung/24914858/
URL:https://ausschreibungsradar.com/ausschreibung/24914858/
END:VEVENT
BEGIN:VEVENT
UID:3ebf4b09b731b096@ausschreibungsradar.com
DTSTAMP:20260424T012502Z
DTSTART;VALUE=DATE:20260130
DTEND;VALUE=DATE:20260130
SUMMARY:Ausschreibung — Ausführung von Bauleistungen
DESCRIPTION:Phase: Ausschreibung | Beschreibung: Offizielle Ausschreibung mit Bieterfrist. | Link: https://ausschreibungsradar.com/ausschreibung/24931806/
URL:https://ausschreibungsradar.com/ausschreibung/24931806/
END:VEVENT
BEGIN:VEVENT
UID:17cc541034677683@ausschreibungsradar.com
DTSTAMP:20260424T012502Z
DTSTART;VALUE=DATE:20260226
DTEND;VALUE=DATE:20260226
SUMMARY:Ausschreibung — Ausführung von Bauleistungen
DESCRIPTION:Phase: Ausschreibung | Beschreibung: Offizielle Ausschreibung mit Bieterfrist. | Link: https://ausschreibungsradar.com/ausschreibung/25040246/
URL:https://ausschreibungsradar.com/ausschreibung/25040246/
END:VEVENT
BEGIN:VEVENT
UID:2cf4b64a586ce297@ausschreibungsradar.com
DTSTAMP:20260424T012502Z
DTSTART;VALUE=DATE:20260303
DTEND;VALUE=DATE:20260303
SUMMARY:Ausschreibung — Ausführung von Bauleistungen
DESCRIPTION:Phase: Ausschreibung | Beschreibung: Offizielle Ausschreibung mit Bieterfrist. | Link: https://ausschreibungsradar.com/ausschreibung/25058240/
URL:https://ausschreibungsradar.com/ausschreibung/25058240/
END:VEVENT
BEGIN:VEVENT
UID:8261a59aa3d7df27@ausschreibungsradar.com
DTSTAMP:20260424T012502Z
DTSTART;VALUE=DATE:20260304
DTEND;VALUE=DATE:20260304
SUMMARY:Ausschreibung — Ausführung von Bauleistungen
DESCRIPTION:Phase: Ausschreibung | Beschreibung: Offizielle Ausschreibung mit Bieterfrist. | Link: https://ausschreibungsradar.com/ausschreibung/25063666/
URL:https://ausschreibungsradar.com/ausschreibung/25063666/
END:VEVENT
BEGIN:VEVENT
UID:6d900f09f5d78ff1@ausschreibungsradar.com
DTSTAMP:20260424T012502Z
DTSTART;VALUE=DATE:20260309
DTEND;VALUE=DATE:20260309
SUMMARY:Ausschreibung — Ausführung von Bauleistungen
DESCRIPTION:Phase: Ausschreibung | Beschreibung: Offizielle Ausschreibung mit Bieterfrist. | Link: https://ausschreibungsradar.com/ausschreibung/25082852/
URL:https://ausschreibungsradar.com/ausschreibung/25082852/
END:VEVENT
END:VCALENDAR
