BEGIN:VCALENDAR
VERSION:2.0
PRODID:-//AusschreibungsRadar//Timeline//DE
CALSCALE:GREGORIAN
METHOD:PUBLISH
X-WR-CALNAME:Projekt Umbau Kita Ev. Kirchengemeinde Innentüren
X-WR-TIMEZONE:Europe/Berlin
BEGIN:VEVENT
UID:1d19852c7b124db8@ausschreibungsradar.com
DTSTAMP:20260424T132416Z
DTSTART;VALUE=DATE:20260302
DTEND;VALUE=DATE:20260302
SUMMARY:Ausschreibung — Umbau Kita Ev. Kirchengemeinde Innentüren
DESCRIPTION:Phase: Ausschreibung | Beschreibung: Offizielle Ausschreibung mit Bieterfrist. | Link: https://ausschreibungsradar.com/ausschreibung/25055554/
URL:https://ausschreibungsradar.com/ausschreibung/25055554/
END:VEVENT
BEGIN:VEVENT
UID:632d737557b29d70@ausschreibungsradar.com
DTSTAMP:20260424T132416Z
DTSTART;VALUE=DATE:20260302
DTEND;VALUE=DATE:20260302
SUMMARY:Ausschreibung — Umbau Kita Ev. Kirchengemeinde Innentüren
DESCRIPTION:Phase: Ausschreibung | Beschreibung: Offizielle Ausschreibung mit Bieterfrist. | Link: https://ausschreibungsradar.com/ausschreibung/25055546/
URL:https://ausschreibungsradar.com/ausschreibung/25055546/
END:VEVENT
BEGIN:VEVENT
UID:236f05db1f555a75@ausschreibungsradar.com
DTSTAMP:20260424T132416Z
DTSTART;VALUE=DATE:20260302
DTEND;VALUE=DATE:20260302
SUMMARY:Ausschreibung — Umbau Kita Ev. Kirchengemeinde Innentüren
DESCRIPTION:Phase: Ausschreibung | Beschreibung: Offizielle Ausschreibung mit Bieterfrist. | Link: https://ausschreibungsradar.com/ausschreibung/25055542/
URL:https://ausschreibungsradar.com/ausschreibung/25055542/
END:VEVENT
BEGIN:VEVENT
UID:440a9e26ce374424@ausschreibungsradar.com
DTSTAMP:20260424T132416Z
DTSTART;VALUE=DATE:20260302
DTEND;VALUE=DATE:20260302
SUMMARY:Ausschreibung — Umbau Kita Ev. Kirchengemeinde Innentüren
DESCRIPTION:Phase: Ausschreibung | Beschreibung: Offizielle Ausschreibung mit Bieterfrist. | Link: https://ausschreibungsradar.com/ausschreibung/25055558/
URL:https://ausschreibungsradar.com/ausschreibung/25055558/
END:VEVENT
BEGIN:VEVENT
UID:b827d64b2e7ffd41@ausschreibungsradar.com
DTSTAMP:20260424T132416Z
DTSTART;VALUE=DATE:20260311
DTEND;VALUE=DATE:20260311
SUMMARY:Ausschreibung — Umbau Kita Ev. Kirchengemeinde Innentüren
DESCRIPTION:Phase: Ausschreibung | Beschreibung: Offizielle Ausschreibung mit Bieterfrist. | Link: https://ausschreibungsradar.com/ausschreibung/25097434/
URL:https://ausschreibungsradar.com/ausschreibung/25097434/
END:VEVENT
BEGIN:VEVENT
UID:85667c31e872c5f8@ausschreibungsradar.com
DTSTAMP:20260424T132416Z
DTSTART;VALUE=DATE:20260317
DTEND;VALUE=DATE:20260317
SUMMARY:Ausschreibung — Umbau Kita Ev. Kirchengemeinde Innentüren
DESCRIPTION:Phase: Ausschreibung | Beschreibung: Offizielle Ausschreibung mit Bieterfrist. | Link: https://ausschreibungsradar.com/ausschreibung/25122792/
URL:https://ausschreibungsradar.com/ausschreibung/25122792/
END:VEVENT
END:VCALENDAR
