BEGIN:VCALENDAR
VERSION:2.0
PRODID:-//AusschreibungsRadar//Timeline//DE
CALSCALE:GREGORIAN
METHOD:PUBLISH
X-WR-CALNAME:Projekt GanztagInvest Staatliche Grund- und Regelschule Tilman Rieme
X-WR-TIMEZONE:Europe/Berlin
BEGIN:VEVENT
UID:1379c3486002f850@ausschreibungsradar.com
DTSTAMP:20260425T102324Z
DTSTART;VALUE=DATE:20260304
DTEND;VALUE=DATE:20260304
SUMMARY:Ausschreibung — GanztagInvest Staatliche Grund- und Regelschule Tilman Rieme
DESCRIPTION:Phase: Ausschreibung | Beschreibung: Offizielle Ausschreibung mit Bieterfrist. | Link: https://ausschreibungsradar.com/ausschreibung/25062858/
URL:https://ausschreibungsradar.com/ausschreibung/25062858/
END:VEVENT
BEGIN:VEVENT
UID:5d8fe88239e7880b@ausschreibungsradar.com
DTSTAMP:20260425T102324Z
DTSTART;VALUE=DATE:20260402
DTEND;VALUE=DATE:20260402
SUMMARY:Ausschreibung — GanztagInvest Staatliche Grund- und Regelschule Tilman Rieme
DESCRIPTION:Phase: Ausschreibung | Beschreibung: Offizielle Ausschreibung mit Bieterfrist. | Link: https://ausschreibungsradar.com/ausschreibung/a9bb5d4e-f811-4605-b439-aa1e8ec96c06/
URL:https://ausschreibungsradar.com/ausschreibung/a9bb5d4e-f811-4605-b439-aa1e8ec96c06/
END:VEVENT
END:VCALENDAR
