BEGIN:VCALENDAR
VERSION:2.0
PRODID:-//AusschreibungsRadar//Timeline//DE
CALSCALE:GREGORIAN
METHOD:PUBLISH
X-WR-CALNAME:Projekt Vergebener Auftrag gemäß §30 (1) UVgO
X-WR-TIMEZONE:Europe/Berlin
BEGIN:VEVENT
UID:8ad79643a9e8aaf9@ausschreibungsradar.com
DTSTAMP:20260426T002142Z
DTSTART;VALUE=DATE:20260223
DTEND;VALUE=DATE:20260223
SUMMARY:Zuschlag — Vergebener Auftrag gemäß §30 (1) UVgO
DESCRIPTION:Phase: Zuschlag | Beschreibung: Vergabeergebnis — Auftrag wurde erteilt oder Verfahren beendet. | Link: https://ausschreibungsradar.com/ausschreibung/25023434/
URL:https://ausschreibungsradar.com/ausschreibung/25023434/
END:VEVENT
BEGIN:VEVENT
UID:d9711e2cde0a2a5f@ausschreibungsradar.com
DTSTAMP:20260426T002142Z
DTSTART;VALUE=DATE:20260306
DTEND;VALUE=DATE:20260306
SUMMARY:Zuschlag — Vergebener Auftrag gemäß §30 (1) UVgO
DESCRIPTION:Phase: Zuschlag | Beschreibung: Vergabeergebnis — Auftrag wurde erteilt oder Verfahren beendet. | Link: https://ausschreibungsradar.com/ausschreibung/25076206/
URL:https://ausschreibungsradar.com/ausschreibung/25076206/
END:VEVENT
END:VCALENDAR
