BEGIN:VCALENDAR
VERSION:2.0
PRODID:-//AusschreibungsRadar//Timeline//DE
CALSCALE:GREGORIAN
METHOD:PUBLISH
X-WR-CALNAME:Projekt GS Iggelheim - Geothermie-Sondenfeld
X-WR-TIMEZONE:Europe/Berlin
BEGIN:VEVENT
UID:60e30f2d0d31a69c@ausschreibungsradar.com
DTSTAMP:20260424T124149Z
DTSTART;VALUE=DATE:20260311
DTEND;VALUE=DATE:20260311
SUMMARY:Ausschreibung — GS Iggelheim - Geothermie-Sondenfeld
DESCRIPTION:Phase: Ausschreibung | Beschreibung: Offizielle Ausschreibung mit Bieterfrist. | Link: https://ausschreibungsradar.com/ausschreibung/25097172/
URL:https://ausschreibungsradar.com/ausschreibung/25097172/
END:VEVENT
BEGIN:VEVENT
UID:8a80fcd355d6dc7e@ausschreibungsradar.com
DTSTAMP:20260424T124149Z
DTSTART;VALUE=DATE:20260311
DTEND;VALUE=DATE:20260311
SUMMARY:Ausschreibung — GS Iggelheim - Geothermie-Sondenfeld
DESCRIPTION:Phase: Ausschreibung | Beschreibung: Offizielle Ausschreibung mit Bieterfrist. | Link: https://ausschreibungsradar.com/ausschreibung/25094632/
URL:https://ausschreibungsradar.com/ausschreibung/25094632/
END:VEVENT
END:VCALENDAR
