BEGIN:VCALENDAR
VERSION:2.0
PRODID:-//AusschreibungsRadar//Timeline//DE
CALSCALE:GREGORIAN
METHOD:PUBLISH
X-WR-CALNAME:Projekt Rahmenvereinbarung über die Lieferung von Büromaterial und K
X-WR-TIMEZONE:Europe/Berlin
BEGIN:VEVENT
UID:30485b41938f5f36@ausschreibungsradar.com
DTSTAMP:20260425T103441Z
DTSTART;VALUE=DATE:20260312
DTEND;VALUE=DATE:20260312
SUMMARY:Ausschreibung — Rahmenvereinbarung über die Lieferung von Büromaterial und K
DESCRIPTION:Phase: Ausschreibung | Beschreibung: Offizielle Ausschreibung mit Bieterfrist. | Link: https://ausschreibungsradar.com/ausschreibung/25099554/
URL:https://ausschreibungsradar.com/ausschreibung/25099554/
END:VEVENT
BEGIN:VEVENT
UID:254379b823eb9c4e@ausschreibungsradar.com
DTSTAMP:20260425T103441Z
DTSTART;VALUE=DATE:20260317
DTEND;VALUE=DATE:20260317
SUMMARY:Ausschreibung — Rahmenvereinbarung über die Lieferung von Büromaterial und K
DESCRIPTION:Phase: Ausschreibung | Beschreibung: Offizielle Ausschreibung mit Bieterfrist. | Link: https://ausschreibungsradar.com/ausschreibung/25119088/
URL:https://ausschreibungsradar.com/ausschreibung/25119088/
END:VEVENT
END:VCALENDAR
