BEGIN:VCALENDAR
VERSION:2.0
PRODID:-//AusschreibungsRadar//Timeline//DE
CALSCALE:GREGORIAN
METHOD:PUBLISH
X-WR-CALNAME:Projekt Drogerie Vesting
X-WR-TIMEZONE:Europe/Berlin
BEGIN:VEVENT
UID:f2ed89dd427c8227@ausschreibungsradar.com
DTSTAMP:20260424T180852Z
DTSTART;VALUE=DATE:20260320
DTEND;VALUE=DATE:20260320
SUMMARY:Ausschreibung — Drogerie Vesting
DESCRIPTION:Phase: Ausschreibung | Beschreibung: Offizielle Ausschreibung mit Bieterfrist. | Link: https://ausschreibungsradar.com/ausschreibung/25134418/
URL:https://ausschreibungsradar.com/ausschreibung/25134418/
END:VEVENT
BEGIN:VEVENT
UID:6d94f96b7453f38e@ausschreibungsradar.com
DTSTAMP:20260424T180852Z
DTSTART;VALUE=DATE:20260320
DTEND;VALUE=DATE:20260320
SUMMARY:Ausschreibung — Drogerie Vesting
DESCRIPTION:Phase: Ausschreibung | Beschreibung: Offizielle Ausschreibung mit Bieterfrist. | Link: https://ausschreibungsradar.com/ausschreibung/25134414/
URL:https://ausschreibungsradar.com/ausschreibung/25134414/
END:VEVENT
BEGIN:VEVENT
UID:982a42167bbe0ad1@ausschreibungsradar.com
DTSTAMP:20260424T180852Z
DTSTART;VALUE=DATE:20260320
DTEND;VALUE=DATE:20260320
SUMMARY:Ausschreibung — Drogerie Vesting
DESCRIPTION:Phase: Ausschreibung | Beschreibung: Offizielle Ausschreibung mit Bieterfrist. | Link: https://ausschreibungsradar.com/ausschreibung/25134422/
URL:https://ausschreibungsradar.com/ausschreibung/25134422/
END:VEVENT
BEGIN:VEVENT
UID:dfc03bd72311526b@ausschreibungsradar.com
DTSTAMP:20260424T180852Z
DTSTART;VALUE=DATE:20260320
DTEND;VALUE=DATE:20260320
SUMMARY:Ausschreibung — Drogerie Vesting
DESCRIPTION:Phase: Ausschreibung | Beschreibung: Offizielle Ausschreibung mit Bieterfrist. | Link: https://ausschreibungsradar.com/ausschreibung/25134426/
URL:https://ausschreibungsradar.com/ausschreibung/25134426/
END:VEVENT
BEGIN:VEVENT
UID:84d7b5cef5c19024@ausschreibungsradar.com
DTSTAMP:20260424T180852Z
DTSTART;VALUE=DATE:20260409
DTEND;VALUE=DATE:20260409
SUMMARY:Ausschreibung — Drogerie Vesting
DESCRIPTION:Phase: Ausschreibung | Beschreibung: Offizielle Ausschreibung mit Bieterfrist. | Link: https://ausschreibungsradar.com/ausschreibung/25208124/
URL:https://ausschreibungsradar.com/ausschreibung/25208124/
END:VEVENT
BEGIN:VEVENT
UID:6abdd57608b6fcc2@ausschreibungsradar.com
DTSTAMP:20260424T180852Z
DTSTART;VALUE=DATE:20260409
DTEND;VALUE=DATE:20260409
SUMMARY:Ausschreibung — Drogerie Vesting
DESCRIPTION:Phase: Ausschreibung | Beschreibung: Offizielle Ausschreibung mit Bieterfrist. | Link: https://ausschreibungsradar.com/ausschreibung/25208116/
URL:https://ausschreibungsradar.com/ausschreibung/25208116/
END:VEVENT
END:VCALENDAR
