BEGIN:VCALENDAR
VERSION:2.0
PRODID:-//AusschreibungsRadar//Timeline//DE
CALSCALE:GREGORIAN
METHOD:PUBLISH
X-WR-CALNAME:Projekt Drogerie Vesting Tischlerarbeiten
X-WR-TIMEZONE:Europe/Berlin
BEGIN:VEVENT
UID:982a42167bbe0ad1@ausschreibungsradar.com
DTSTAMP:20260425T103411Z
DTSTART;VALUE=DATE:20260320
DTEND;VALUE=DATE:20260320
SUMMARY:Ausschreibung — Drogerie Vesting Tischlerarbeiten
DESCRIPTION:Phase: Ausschreibung | Beschreibung: Offizielle Ausschreibung mit Bieterfrist. | Link: https://ausschreibungsradar.com/ausschreibung/25134422/
URL:https://ausschreibungsradar.com/ausschreibung/25134422/
END:VEVENT
BEGIN:VEVENT
UID:6d94f96b7453f38e@ausschreibungsradar.com
DTSTAMP:20260425T103411Z
DTSTART;VALUE=DATE:20260320
DTEND;VALUE=DATE:20260320
SUMMARY:Ausschreibung — Drogerie Vesting Tischlerarbeiten
DESCRIPTION:Phase: Ausschreibung | Beschreibung: Offizielle Ausschreibung mit Bieterfrist. | Link: https://ausschreibungsradar.com/ausschreibung/25134414/
URL:https://ausschreibungsradar.com/ausschreibung/25134414/
END:VEVENT
END:VCALENDAR
