BEGIN:VCALENDAR
VERSION:2.0
PRODID:-//AusschreibungsRadar//Timeline//DE
CALSCALE:GREGORIAN
METHOD:PUBLISH
X-WR-CALNAME:Projekt BLB NRW BB/Nörvenich/NATO-Flugplatz Geb. A2/Abbruch-, Rohbau
X-WR-TIMEZONE:Europe/Berlin
BEGIN:VEVENT
UID:220e6d932a6995de@ausschreibungsradar.com
DTSTAMP:20260425T040429Z
DTSTART;VALUE=DATE:20260319
DTEND;VALUE=DATE:20260319
SUMMARY:Ausschreibung — BLB NRW BB/Nörvenich/NATO-Flugplatz Geb. A2/Abbruch-\, Rohbau
DESCRIPTION:Phase: Ausschreibung | Beschreibung: Offizielle Ausschreibung mit Bieterfrist. | Link: https://ausschreibungsradar.com/ausschreibung/25134894/
URL:https://ausschreibungsradar.com/ausschreibung/25134894/
END:VEVENT
BEGIN:VEVENT
UID:b5cf13863ed24b84@ausschreibungsradar.com
DTSTAMP:20260425T040429Z
DTSTART;VALUE=DATE:20260326
DTEND;VALUE=DATE:20260326
SUMMARY:Ausschreibung — BLB NRW BB/Nörvenich/NATO-Flugplatz Geb. A2/Abbruch-\, Rohbau
DESCRIPTION:Phase: Ausschreibung | Beschreibung: Offizielle Ausschreibung mit Bieterfrist. | Link: https://ausschreibungsradar.com/ausschreibung/25165012/
URL:https://ausschreibungsradar.com/ausschreibung/25165012/
END:VEVENT
END:VCALENDAR
