BEGIN:VCALENDAR
VERSION:2.0
PRODID:-//AusschreibungsRadar//Timeline//DE
CALSCALE:GREGORIAN
METHOD:PUBLISH
X-WR-CALNAME:Projekt Rahmenvereinbarung Handentrindung mittels Rindenstreifverfah
X-WR-TIMEZONE:Europe/Berlin
BEGIN:VEVENT
UID:438bf0b716d66694@ausschreibungsradar.com
DTSTAMP:20260423T224409Z
DTSTART;VALUE=DATE:20260223
DTEND;VALUE=DATE:20260223
SUMMARY:Ausschreibung — Rahmenvereinbarung Handentrindung mittels Rindenstreifverfah
DESCRIPTION:Phase: Ausschreibung | Beschreibung: Offizielle Ausschreibung mit Bieterfrist. | Link: https://ausschreibungsradar.com/ausschreibung/25026384/
URL:https://ausschreibungsradar.com/ausschreibung/25026384/
END:VEVENT
BEGIN:VEVENT
UID:5e8b0de4ac2c0048@ausschreibungsradar.com
DTSTAMP:20260423T224409Z
DTSTART;VALUE=DATE:20260323
DTEND;VALUE=DATE:20260323
SUMMARY:Zuschlag — Rahmenvereinbarung Handentrindung mittels Rindenstreifverfah
DESCRIPTION:Phase: Zuschlag | Beschreibung: Vergabeergebnis — Auftrag wurde erteilt oder Verfahren beendet. | Link: https://ausschreibungsradar.com/ausschreibung/25147542/
URL:https://ausschreibungsradar.com/ausschreibung/25147542/
END:VEVENT
BEGIN:VEVENT
UID:b356838e3ce26a08@ausschreibungsradar.com
DTSTAMP:20260423T224409Z
DTSTART;VALUE=DATE:20260323
DTEND;VALUE=DATE:20260323
SUMMARY:Zuschlag — Rahmenvereinbarung Handentrindung mittels Rindenstreifverfah
DESCRIPTION:Phase: Zuschlag | Beschreibung: Vergabeergebnis — Auftrag wurde erteilt oder Verfahren beendet. | Link: https://ausschreibungsradar.com/ausschreibung/25147538/
URL:https://ausschreibungsradar.com/ausschreibung/25147538/
END:VEVENT
END:VCALENDAR
