BEGIN:VCALENDAR
VERSION:2.0
PRODID:-//AusschreibungsRadar//Timeline//DE
CALSCALE:GREGORIAN
METHOD:PUBLISH
X-WR-CALNAME:Projekt Neubau/Anbau von 2 Lernräumen an das vorhandene Mensagebäude
X-WR-TIMEZONE:Europe/Berlin
BEGIN:VEVENT
UID:00cc116c743ab0e4@ausschreibungsradar.com
DTSTAMP:20260424T232616Z
DTSTART;VALUE=DATE:20260327
DTEND;VALUE=DATE:20260327
SUMMARY:Ausschreibung — Neubau/Anbau von 2 Lernräumen an das vorhandene Mensagebäude
DESCRIPTION:Phase: Ausschreibung | Beschreibung: Offizielle Ausschreibung mit Bieterfrist. | Link: https://ausschreibungsradar.com/ausschreibung/25164580/
URL:https://ausschreibungsradar.com/ausschreibung/25164580/
END:VEVENT
BEGIN:VEVENT
UID:f2aa5b4f7143a73e@ausschreibungsradar.com
DTSTAMP:20260424T232616Z
DTSTART;VALUE=DATE:20260327
DTEND;VALUE=DATE:20260327
SUMMARY:Ausschreibung — Neubau/Anbau von 2 Lernräumen an das vorhandene Mensagebäude
DESCRIPTION:Phase: Ausschreibung | Beschreibung: Offizielle Ausschreibung mit Bieterfrist. | Link: https://ausschreibungsradar.com/ausschreibung/25164620/
URL:https://ausschreibungsradar.com/ausschreibung/25164620/
END:VEVENT
END:VCALENDAR
