BEGIN:VCALENDAR
VERSION:2.0
PRODID:-//AusschreibungsRadar//Timeline//DE
CALSCALE:GREGORIAN
METHOD:PUBLISH
X-WR-CALNAME:Projekt BLB NRW BB/Nörvenich/NATO-Flugplatz Geb. A2/Putz-, Trockenba
X-WR-TIMEZONE:Europe/Berlin
BEGIN:VEVENT
UID:72ca2e030e37fbbc@ausschreibungsradar.com
DTSTAMP:20260424T114640Z
DTSTART;VALUE=DATE:20260317
DTEND;VALUE=DATE:20260317
SUMMARY:Ausschreibung — BLB NRW BB/Nörvenich/NATO-Flugplatz Geb. A2/Putz-\, Trockenba
DESCRIPTION:Phase: Ausschreibung | Beschreibung: Offizielle Ausschreibung mit Bieterfrist. | Link: https://ausschreibungsradar.com/ausschreibung/25122702/
URL:https://ausschreibungsradar.com/ausschreibung/25122702/
END:VEVENT
BEGIN:VEVENT
UID:220e6d932a6995de@ausschreibungsradar.com
DTSTAMP:20260424T114640Z
DTSTART;VALUE=DATE:20260319
DTEND;VALUE=DATE:20260319
SUMMARY:Ausschreibung — BLB NRW BB/Nörvenich/NATO-Flugplatz Geb. A2/Putz-\, Trockenba
DESCRIPTION:Phase: Ausschreibung | Beschreibung: Offizielle Ausschreibung mit Bieterfrist. | Link: https://ausschreibungsradar.com/ausschreibung/25134894/
URL:https://ausschreibungsradar.com/ausschreibung/25134894/
END:VEVENT
BEGIN:VEVENT
UID:0f2eb97ad7fb2029@ausschreibungsradar.com
DTSTAMP:20260424T114640Z
DTSTART;VALUE=DATE:20260320
DTEND;VALUE=DATE:20260320
SUMMARY:Ausschreibung — BLB NRW BB/Nörvenich/NATO-Flugplatz Geb. A2/Putz-\, Trockenba
DESCRIPTION:Phase: Ausschreibung | Beschreibung: Offizielle Ausschreibung mit Bieterfrist. | Link: https://ausschreibungsradar.com/ausschreibung/25140834/
URL:https://ausschreibungsradar.com/ausschreibung/25140834/
END:VEVENT
BEGIN:VEVENT
UID:469ce5bd2d69c7c2@ausschreibungsradar.com
DTSTAMP:20260424T114640Z
DTSTART;VALUE=DATE:20260326
DTEND;VALUE=DATE:20260326
SUMMARY:Ausschreibung — BLB NRW BB/Nörvenich/NATO-Flugplatz Geb. A2/Putz-\, Trockenba
DESCRIPTION:Phase: Ausschreibung | Beschreibung: Offizielle Ausschreibung mit Bieterfrist. | Link: https://ausschreibungsradar.com/ausschreibung/25165016/
URL:https://ausschreibungsradar.com/ausschreibung/25165016/
END:VEVENT
BEGIN:VEVENT
UID:b5cf13863ed24b84@ausschreibungsradar.com
DTSTAMP:20260424T114640Z
DTSTART;VALUE=DATE:20260326
DTEND;VALUE=DATE:20260326
SUMMARY:Ausschreibung — BLB NRW BB/Nörvenich/NATO-Flugplatz Geb. A2/Putz-\, Trockenba
DESCRIPTION:Phase: Ausschreibung | Beschreibung: Offizielle Ausschreibung mit Bieterfrist. | Link: https://ausschreibungsradar.com/ausschreibung/25165012/
URL:https://ausschreibungsradar.com/ausschreibung/25165012/
END:VEVENT
BEGIN:VEVENT
UID:0d744e255501a914@ausschreibungsradar.com
DTSTAMP:20260424T114640Z
DTSTART;VALUE=DATE:20260421
DTEND;VALUE=DATE:20260421
SUMMARY:Ausschreibung — BLB NRW BB/Nörvenich/NATO-Flugplatz Geb. A2/Putz-\, Trockenba
DESCRIPTION:Phase: Ausschreibung | Beschreibung: Offizielle Ausschreibung mit Bieterfrist. | Link: https://ausschreibungsradar.com/ausschreibung/25259486/
URL:https://ausschreibungsradar.com/ausschreibung/25259486/
END:VEVENT
END:VCALENDAR
