BEGIN:VCALENDAR
VERSION:2.0
PRODID:-//AusschreibungsRadar//Timeline//DE
CALSCALE:GREGORIAN
METHOD:PUBLISH
X-WR-CALNAME:Projekt Kyffhäuserburganlagen mit KWD, Neugestaltung der zentralen E
X-WR-TIMEZONE:Europe/Berlin
BEGIN:VEVENT
UID:d19258c19a0ed14f@ausschreibungsradar.com
DTSTAMP:20260424T094657Z
DTSTART;VALUE=DATE:20260311
DTEND;VALUE=DATE:20260311
SUMMARY:Zuschlag — Kyffhäuserburganlagen mit KWD\, Neugestaltung der zentralen E
DESCRIPTION:Phase: Zuschlag | Beschreibung: Vergabeergebnis — Auftrag wurde erteilt oder Verfahren beendet. | Link: https://ausschreibungsradar.com/ausschreibung/25093610/
URL:https://ausschreibungsradar.com/ausschreibung/25093610/
END:VEVENT
BEGIN:VEVENT
UID:5eab7837399d2728@ausschreibungsradar.com
DTSTAMP:20260424T094657Z
DTSTART;VALUE=DATE:20260330
DTEND;VALUE=DATE:20260330
SUMMARY:Ausschreibung — Kyffhäuserburganlagen mit KWD\, Neugestaltung der zentralen E
DESCRIPTION:Phase: Ausschreibung | Beschreibung: Offizielle Ausschreibung mit Bieterfrist. | Link: https://ausschreibungsradar.com/ausschreibung/25174648/
URL:https://ausschreibungsradar.com/ausschreibung/25174648/
END:VEVENT
BEGIN:VEVENT
UID:0aed300900963047@ausschreibungsradar.com
DTSTAMP:20260424T094657Z
DTSTART;VALUE=DATE:20260401
DTEND;VALUE=DATE:20260401
SUMMARY:Ausschreibung — Kyffhäuserburganlagen mit KWD\, Neugestaltung der zentralen E
DESCRIPTION:Phase: Ausschreibung | Beschreibung: Offizielle Ausschreibung mit Bieterfrist. | Link: https://ausschreibungsradar.com/ausschreibung/25185734/
URL:https://ausschreibungsradar.com/ausschreibung/25185734/
END:VEVENT
BEGIN:VEVENT
UID:9eb2b5b83d89fd2d@ausschreibungsradar.com
DTSTAMP:20260424T094657Z
DTSTART;VALUE=DATE:20260413
DTEND;VALUE=DATE:20260413
SUMMARY:Ausschreibung — Kyffhäuserburganlagen mit KWD\, Neugestaltung der zentralen E
DESCRIPTION:Phase: Ausschreibung | Beschreibung: Offizielle Ausschreibung mit Bieterfrist. | Link: https://ausschreibungsradar.com/ausschreibung/26cd362b-283c-4d89-8a2a-fb95b6432f60/
URL:https://ausschreibungsradar.com/ausschreibung/26cd362b-283c-4d89-8a2a-fb95b6432f60/
END:VEVENT
END:VCALENDAR
