BEGIN:VCALENDAR
VERSION:2.0
PRODID:-//AusschreibungsRadar//Timeline//DE
CALSCALE:GREGORIAN
METHOD:PUBLISH
X-WR-CALNAME:Projekt Vergebener Auftrag gemäß §30 (1) UVgO
X-WR-TIMEZONE:Europe/Berlin
BEGIN:VEVENT
UID:2777d1b2e752f18d@ausschreibungsradar.com
DTSTAMP:20260425T213320Z
DTSTART;VALUE=DATE:20260401
DTEND;VALUE=DATE:20260401
SUMMARY:Zuschlag — Vergebener Auftrag gemäß §30 (1) UVgO
DESCRIPTION:Phase: Zuschlag | Beschreibung: Vergabeergebnis — Auftrag wurde erteilt oder Verfahren beendet. | Link: https://ausschreibungsradar.com/ausschreibung/25186634/
URL:https://ausschreibungsradar.com/ausschreibung/25186634/
END:VEVENT
BEGIN:VEVENT
UID:d264e048c9a39f70@ausschreibungsradar.com
DTSTAMP:20260425T213320Z
DTSTART;VALUE=DATE:20260401
DTEND;VALUE=DATE:20260401
SUMMARY:Zuschlag — Vergebener Auftrag gemäß §30 (1) UVgO
DESCRIPTION:Phase: Zuschlag | Beschreibung: Vergabeergebnis — Auftrag wurde erteilt oder Verfahren beendet. | Link: https://ausschreibungsradar.com/ausschreibung/25186630/
URL:https://ausschreibungsradar.com/ausschreibung/25186630/
END:VEVENT
END:VCALENDAR
