BEGIN:VCALENDAR
VERSION:2.0
PRODID:-//AusschreibungsRadar//Timeline//DE
CALSCALE:GREGORIAN
METHOD:PUBLISH
X-WR-CALNAME:Projekt BLB NRW BB/Nörvenich/Nato-Flugplatz Nörvenich/Kaserne Haus H
X-WR-TIMEZONE:Europe/Berlin
BEGIN:VEVENT
UID:469ce5bd2d69c7c2@ausschreibungsradar.com
DTSTAMP:20260424T132313Z
DTSTART;VALUE=DATE:20260326
DTEND;VALUE=DATE:20260326
SUMMARY:Ausschreibung — BLB NRW BB/Nörvenich/Nato-Flugplatz Nörvenich/Kaserne Haus H
DESCRIPTION:Phase: Ausschreibung | Beschreibung: Offizielle Ausschreibung mit Bieterfrist. | Link: https://ausschreibungsradar.com/ausschreibung/25165016/
URL:https://ausschreibungsradar.com/ausschreibung/25165016/
END:VEVENT
BEGIN:VEVENT
UID:b5cf13863ed24b84@ausschreibungsradar.com
DTSTAMP:20260424T132313Z
DTSTART;VALUE=DATE:20260326
DTEND;VALUE=DATE:20260326
SUMMARY:Ausschreibung — BLB NRW BB/Nörvenich/Nato-Flugplatz Nörvenich/Kaserne Haus H
DESCRIPTION:Phase: Ausschreibung | Beschreibung: Offizielle Ausschreibung mit Bieterfrist. | Link: https://ausschreibungsradar.com/ausschreibung/25165012/
URL:https://ausschreibungsradar.com/ausschreibung/25165012/
END:VEVENT
BEGIN:VEVENT
UID:c576023aa355fedd@ausschreibungsradar.com
DTSTAMP:20260424T132313Z
DTSTART;VALUE=DATE:20260330
DTEND;VALUE=DATE:20260330
SUMMARY:Ausschreibung — BLB NRW BB/Nörvenich/Nato-Flugplatz Nörvenich/Kaserne Haus H
DESCRIPTION:Phase: Ausschreibung | Beschreibung: Offizielle Ausschreibung mit Bieterfrist. | Link: https://ausschreibungsradar.com/ausschreibung/25177944/
URL:https://ausschreibungsradar.com/ausschreibung/25177944/
END:VEVENT
BEGIN:VEVENT
UID:0d744e255501a914@ausschreibungsradar.com
DTSTAMP:20260424T132313Z
DTSTART;VALUE=DATE:20260421
DTEND;VALUE=DATE:20260421
SUMMARY:Ausschreibung — BLB NRW BB/Nörvenich/Nato-Flugplatz Nörvenich/Kaserne Haus H
DESCRIPTION:Phase: Ausschreibung | Beschreibung: Offizielle Ausschreibung mit Bieterfrist. | Link: https://ausschreibungsradar.com/ausschreibung/25259486/
URL:https://ausschreibungsradar.com/ausschreibung/25259486/
END:VEVENT
END:VCALENDAR
