BEGIN:VCALENDAR
VERSION:2.0
PRODID:-//AusschreibungsRadar//Timeline//DE
CALSCALE:GREGORIAN
METHOD:PUBLISH
X-WR-CALNAME:Projekt 6#0013-G14-Evaluation der Förderung der Verlagerung von Güte
X-WR-TIMEZONE:Europe/Berlin
BEGIN:VEVENT
UID:1fff02ebcdb84849@ausschreibungsradar.com
DTSTAMP:20260425T104138Z
DTSTART;VALUE=DATE:20260323
DTEND;VALUE=DATE:20260323
SUMMARY:Ausschreibung — 6#0013-G14-Evaluation der Förderung der Verlagerung von Güte
DESCRIPTION:Phase: Ausschreibung | Beschreibung: Angebote werden eingeholt | Link: https://ausschreibungsradar.com/ausschreibung/25320ee5-06df-4960-ba2e-e039a1edd0a7/
URL:https://ausschreibungsradar.com/ausschreibung/25320ee5-06df-4960-ba2e-e039a1edd0a7/
END:VEVENT
BEGIN:VEVENT
UID:e039125d8c47fe0d@ausschreibungsradar.com
DTSTAMP:20260425T104138Z
DTSTART;VALUE=DATE:20260323
DTEND;VALUE=DATE:20260323
SUMMARY:Ausschreibung — 6#0013-G14-Evaluation der Förderung der Verlagerung von Güte
DESCRIPTION:Phase: Ausschreibung | Beschreibung: Offizielle Ausschreibung mit Bieterfrist. | Link: https://ausschreibungsradar.com/ausschreibung/9dbc9dcc-666e-4319-9fe7-68f20f9a05ed/
URL:https://ausschreibungsradar.com/ausschreibung/9dbc9dcc-666e-4319-9fe7-68f20f9a05ed/
END:VEVENT
BEGIN:VEVENT
UID:f583d32ff305c4d7@ausschreibungsradar.com
DTSTAMP:20260425T104138Z
DTSTART;VALUE=DATE:20260422
DTEND;VALUE=DATE:20260422
SUMMARY:Ausschreibung — 6#0013-G14-Evaluation der Förderung der Verlagerung von Güte
DESCRIPTION:Phase: Ausschreibung | Beschreibung: Offizielle Ausschreibung mit Bieterfrist. | Link: https://ausschreibungsradar.com/ausschreibung/ted-274399-2026/
URL:https://ausschreibungsradar.com/ausschreibung/ted-274399-2026/
END:VEVENT
END:VCALENDAR
