BEGIN:VCALENDAR
VERSION:2.0
PRODID:-//AusschreibungsRadar//Timeline//DE
CALSCALE:GREGORIAN
METHOD:PUBLISH
X-WR-CALNAME:Projekt DKK | Abbrucharbeiten - Rückbau Anbau Mutterhaus und Altbau 
X-WR-TIMEZONE:Europe/Berlin
BEGIN:VEVENT
UID:bc0643eeb7d30119@ausschreibungsradar.com
DTSTAMP:20260426T021314Z
DTSTART;VALUE=DATE:20250106
DTEND;VALUE=DATE:20250106
SUMMARY:Angebotsfrist — DKK | Abbrucharbeiten - Rückbau Anbau Mutterhaus und Altbau 
DESCRIPTION:Phase: Ausschreibung | Beschreibung: Angebote werden eingeholt | Link: https://ausschreibungsradar.com/ausschreibung/256ea410-bbf9-48ca-85e7-9a0e52e4ad3f/
URL:https://ausschreibungsradar.com/ausschreibung/256ea410-bbf9-48ca-85e7-9a0e52e4ad3f/
END:VEVENT
BEGIN:VEVENT
UID:ee6658508d44bb61@ausschreibungsradar.com
DTSTAMP:20260426T021314Z
DTSTART;VALUE=DATE:20250215
DTEND;VALUE=DATE:20250215
SUMMARY:Vergabeergebnis — DKK | Abbrucharbeiten - Rückbau Anbau Mutterhaus und Altbau 
DESCRIPTION:Phase: Vergabeergebnis | Beschreibung: Auftrag wurde zugeschlagen | Link: https://ausschreibungsradar.com/ausschreibung/3502e703-197d-4210-b6d7-2dad908a68ee/
URL:https://ausschreibungsradar.com/ausschreibung/3502e703-197d-4210-b6d7-2dad908a68ee/
END:VEVENT
END:VCALENDAR
