BEGIN:VCALENDAR
VERSION:2.0
PRODID:-//AusschreibungsRadar//Timeline//DE
CALSCALE:GREGORIAN
METHOD:PUBLISH
X-WR-CALNAME:Projekt Schülerbeförderung Schule am Dachsberg 2025-2029
X-WR-TIMEZONE:Europe/Berlin
BEGIN:VEVENT
UID:3684da08b69b0b9a@ausschreibungsradar.com
DTSTAMP:20260425T003743Z
DTSTART;VALUE=DATE:20250303
DTEND;VALUE=DATE:20250303
SUMMARY:Angebotsfrist — Schülerbeförderung Schule am Dachsberg 2025-2029
DESCRIPTION:Phase: Ausschreibung | Beschreibung: Angebote werden eingeholt | Link: https://ausschreibungsradar.com/ausschreibung/2571a7ba-1d5c-47b0-b437-c5c3a219bd06/
URL:https://ausschreibungsradar.com/ausschreibung/2571a7ba-1d5c-47b0-b437-c5c3a219bd06/
END:VEVENT
END:VCALENDAR
