BEGIN:VCALENDAR
VERSION:2.0
PRODID:-//AusschreibungsRadar//Timeline//DE
CALSCALE:GREGORIAN
METHOD:PUBLISH
X-WR-CALNAME:Projekt Amtsgericht Zwickau, bedarfsgerechte Unterbringung
X-WR-TIMEZONE:Europe/Berlin
BEGIN:VEVENT
UID:2241f097480ae91c@ausschreibungsradar.com
DTSTAMP:20260424T135300Z
DTSTART;VALUE=DATE:20241220
DTEND;VALUE=DATE:20241220
SUMMARY:Zuschlag — Amtsgericht Zwickau\, bedarfsgerechte Unterbringung
DESCRIPTION:Phase: Zuschlag | Beschreibung: Vergabeergebnis — Auftrag wurde erteilt oder Verfahren beendet. | Link: https://ausschreibungsradar.com/ausschreibung/81e7a101-6b53-48c7-acac-f1092a18d5a3/
URL:https://ausschreibungsradar.com/ausschreibung/81e7a101-6b53-48c7-acac-f1092a18d5a3/
END:VEVENT
BEGIN:VEVENT
UID:855f853d9eb4a758@ausschreibungsradar.com
DTSTAMP:20260424T135300Z
DTSTART;VALUE=DATE:20250103
DTEND;VALUE=DATE:20250103
SUMMARY:Ausschreibung — Amtsgericht Zwickau\, bedarfsgerechte Unterbringung
DESCRIPTION:Phase: Ausschreibung | Beschreibung: Offizielle Ausschreibung mit Bieterfrist. | Link: https://ausschreibungsradar.com/ausschreibung/70e84407-1338-430d-945f-4ef61951d96d/
URL:https://ausschreibungsradar.com/ausschreibung/70e84407-1338-430d-945f-4ef61951d96d/
END:VEVENT
BEGIN:VEVENT
UID:45edb04ab1e70134@ausschreibungsradar.com
DTSTAMP:20260424T135300Z
DTSTART;VALUE=DATE:20250103
DTEND;VALUE=DATE:20250103
SUMMARY:Ausschreibung — Amtsgericht Zwickau\, bedarfsgerechte Unterbringung
DESCRIPTION:Phase: Ausschreibung | Beschreibung: Offizielle Ausschreibung mit Bieterfrist. | Link: https://ausschreibungsradar.com/ausschreibung/f9a6f24a-0614-495d-bccf-597008d390e8/
URL:https://ausschreibungsradar.com/ausschreibung/f9a6f24a-0614-495d-bccf-597008d390e8/
END:VEVENT
BEGIN:VEVENT
UID:8b156f69d932334f@ausschreibungsradar.com
DTSTAMP:20260424T135300Z
DTSTART;VALUE=DATE:20250213
DTEND;VALUE=DATE:20250213
SUMMARY:Angebotsfrist — Amtsgericht Zwickau\, bedarfsgerechte Unterbringung
DESCRIPTION:Phase: Ausschreibung | Beschreibung: Angebote werden eingeholt | Link: https://ausschreibungsradar.com/ausschreibung/258e1d86-6bd5-40c4-b26b-020ca0e888e4/
URL:https://ausschreibungsradar.com/ausschreibung/258e1d86-6bd5-40c4-b26b-020ca0e888e4/
END:VEVENT
BEGIN:VEVENT
UID:c77d5cb23720dd4c@ausschreibungsradar.com
DTSTAMP:20260424T135300Z
DTSTART;VALUE=DATE:20250115
DTEND;VALUE=DATE:20250115
SUMMARY:Ausschreibung — Amtsgericht Zwickau\, bedarfsgerechte Unterbringung
DESCRIPTION:Phase: Ausschreibung | Beschreibung: Offizielle Ausschreibung mit Bieterfrist. | Link: https://ausschreibungsradar.com/ausschreibung/b4e72915-4991-4d44-9944-34238993baa6/
URL:https://ausschreibungsradar.com/ausschreibung/b4e72915-4991-4d44-9944-34238993baa6/
END:VEVENT
BEGIN:VEVENT
UID:d4e5fe465f2debbc@ausschreibungsradar.com
DTSTAMP:20260424T135300Z
DTSTART;VALUE=DATE:20250522
DTEND;VALUE=DATE:20250522
SUMMARY:Vergabeergebnis — Amtsgericht Zwickau\, bedarfsgerechte Unterbringung
DESCRIPTION:Phase: Vergabeergebnis | Beschreibung: Auftrag wurde zugeschlagen | Link: https://ausschreibungsradar.com/ausschreibung/1dbbd25b-091d-4b7d-9b77-1dd8f02a259a/
URL:https://ausschreibungsradar.com/ausschreibung/1dbbd25b-091d-4b7d-9b77-1dd8f02a259a/
END:VEVENT
END:VCALENDAR
