BEGIN:VCALENDAR
VERSION:2.0
PRODID:-//AusschreibungsRadar//Timeline//DE
CALSCALE:GREGORIAN
METHOD:PUBLISH
X-WR-CALNAME:Projekt Kochsalzspülspritzen 2024 Neu
X-WR-TIMEZONE:Europe/Berlin
BEGIN:VEVENT
UID:c28286bd466e3d10@ausschreibungsradar.com
DTSTAMP:20260424T223652Z
DTSTART;VALUE=DATE:20241023
DTEND;VALUE=DATE:20241023
SUMMARY:Ausschreibung — Kochsalzspülspritzen 2024 Neu
DESCRIPTION:Phase: Ausschreibung | Beschreibung: Angebote werden eingeholt | Link: https://ausschreibungsradar.com/ausschreibung/259882bb-ad6f-4607-8453-aa071fa0416d/
URL:https://ausschreibungsradar.com/ausschreibung/259882bb-ad6f-4607-8453-aa071fa0416d/
END:VEVENT
BEGIN:VEVENT
UID:01d54787001d6208@ausschreibungsradar.com
DTSTAMP:20260424T223652Z
DTSTART;VALUE=DATE:20241023
DTEND;VALUE=DATE:20241023
SUMMARY:Ausschreibung — Kochsalzspülspritzen 2024 Neu
DESCRIPTION:Phase: Ausschreibung | Beschreibung: Offizielle Ausschreibung mit Bieterfrist. | Link: https://ausschreibungsradar.com/ausschreibung/73c9ca13-7005-41ab-9492-9c07d6186cc9/
URL:https://ausschreibungsradar.com/ausschreibung/73c9ca13-7005-41ab-9492-9c07d6186cc9/
END:VEVENT
BEGIN:VEVENT
UID:cbff6e7cc45968da@ausschreibungsradar.com
DTSTAMP:20260424T223652Z
DTSTART;VALUE=DATE:20241208
DTEND;VALUE=DATE:20241208
SUMMARY:Vergabeergebnis — Kochsalzspülspritzen 2024 Neu
DESCRIPTION:Phase: Vergabeergebnis | Beschreibung: Auftrag wurde zugeschlagen | Link: https://ausschreibungsradar.com/ausschreibung/3d54f30e-1fb1-4b49-b21b-260908ffa356/
URL:https://ausschreibungsradar.com/ausschreibung/3d54f30e-1fb1-4b49-b21b-260908ffa356/
END:VEVENT
END:VCALENDAR
