BEGIN:VCALENDAR
VERSION:2.0
PRODID:-//AusschreibungsRadar//Timeline//DE
CALSCALE:GREGORIAN
METHOD:PUBLISH
X-WR-CALNAME:Projekt Zeitvertragsarbeiten für das Amt für Immobilien- und Baumana
X-WR-TIMEZONE:Europe/Berlin
BEGIN:VEVENT
UID:3cea4e5feba43aa5@ausschreibungsradar.com
DTSTAMP:20260425T213517Z
DTSTART;VALUE=DATE:20260206
DTEND;VALUE=DATE:20260206
SUMMARY:Ausschreibung — Zeitvertragsarbeiten für das Amt für Immobilien- und Baumana
DESCRIPTION:Phase: Ausschreibung | Beschreibung: Offizielle Ausschreibung mit Bieterfrist. | Link: https://ausschreibungsradar.com/ausschreibung/25be53c6-a44a-4763-91ad-01c4c59fe1bd/
URL:https://ausschreibungsradar.com/ausschreibung/25be53c6-a44a-4763-91ad-01c4c59fe1bd/
END:VEVENT
BEGIN:VEVENT
UID:9bf10233e6b0338a@ausschreibungsradar.com
DTSTAMP:20260425T213517Z
DTSTART;VALUE=DATE:20260206
DTEND;VALUE=DATE:20260206
SUMMARY:Ausschreibung — Zeitvertragsarbeiten für das Amt für Immobilien- und Baumana
DESCRIPTION:Phase: Ausschreibung | Beschreibung: Offizielle Ausschreibung mit Bieterfrist. | Link: https://ausschreibungsradar.com/ausschreibung/9987e940-c2b5-46f6-9e8c-0f93e6672e0a/
URL:https://ausschreibungsradar.com/ausschreibung/9987e940-c2b5-46f6-9e8c-0f93e6672e0a/
END:VEVENT
END:VCALENDAR
