BEGIN:VCALENDAR
VERSION:2.0
PRODID:-//AusschreibungsRadar//Timeline//DE
CALSCALE:GREGORIAN
METHOD:PUBLISH
X-WR-CALNAME:Projekt Um- und Neubau Rathaus Grefrath - Sichtbeton-Beschichtung
X-WR-TIMEZONE:Europe/Berlin
BEGIN:VEVENT
UID:422ffcc2f5d5866a@ausschreibungsradar.com
DTSTAMP:20260424T150743Z
DTSTART;VALUE=DATE:20260107
DTEND;VALUE=DATE:20260107
SUMMARY:Ausschreibung — Um- und Neubau Rathaus Grefrath - Sichtbeton-Beschichtung
DESCRIPTION:Phase: Ausschreibung | Beschreibung: Offizielle Ausschreibung mit Bieterfrist. | Link: https://ausschreibungsradar.com/ausschreibung/b92ffe75-0e56-4f81-8445-a40644e2294e/
URL:https://ausschreibungsradar.com/ausschreibung/b92ffe75-0e56-4f81-8445-a40644e2294e/
END:VEVENT
BEGIN:VEVENT
UID:37db359fe9a0214f@ausschreibungsradar.com
DTSTAMP:20260424T150743Z
DTSTART;VALUE=DATE:20260108
DTEND;VALUE=DATE:20260108
SUMMARY:Zuschlag — Um- und Neubau Rathaus Grefrath - Sichtbeton-Beschichtung
DESCRIPTION:Phase: Zuschlag | Beschreibung: Vergabeergebnis — Auftrag wurde erteilt oder Verfahren beendet. | Link: https://ausschreibungsradar.com/ausschreibung/ab9e52a0-cc26-4dbc-adff-ebd50aadc79d/
URL:https://ausschreibungsradar.com/ausschreibung/ab9e52a0-cc26-4dbc-adff-ebd50aadc79d/
END:VEVENT
BEGIN:VEVENT
UID:4621e13516ec4ed0@ausschreibungsradar.com
DTSTAMP:20260424T150743Z
DTSTART;VALUE=DATE:20260109
DTEND;VALUE=DATE:20260109
SUMMARY:Ausschreibung — Um- und Neubau Rathaus Grefrath - Sichtbeton-Beschichtung
DESCRIPTION:Phase: Ausschreibung | Beschreibung: Offizielle Ausschreibung mit Bieterfrist. | Link: https://ausschreibungsradar.com/ausschreibung/53ff8f15-caa3-421d-8472-58ad3fb1c66c/
URL:https://ausschreibungsradar.com/ausschreibung/53ff8f15-caa3-421d-8472-58ad3fb1c66c/
END:VEVENT
BEGIN:VEVENT
UID:c36ddb5c012a8b17@ausschreibungsradar.com
DTSTAMP:20260424T150743Z
DTSTART;VALUE=DATE:20260109
DTEND;VALUE=DATE:20260109
SUMMARY:Ausschreibung — Um- und Neubau Rathaus Grefrath - Sichtbeton-Beschichtung
DESCRIPTION:Phase: Ausschreibung | Beschreibung: Offizielle Ausschreibung mit Bieterfrist. | Link: https://ausschreibungsradar.com/ausschreibung/e41e2cec-44e6-49b3-b590-888ca799fc52/
URL:https://ausschreibungsradar.com/ausschreibung/e41e2cec-44e6-49b3-b590-888ca799fc52/
END:VEVENT
BEGIN:VEVENT
UID:f801ccda62a9f6c0@ausschreibungsradar.com
DTSTAMP:20260424T150743Z
DTSTART;VALUE=DATE:20260223
DTEND;VALUE=DATE:20260223
SUMMARY:Angebotsfrist — Um- und Neubau Rathaus Grefrath - Sichtbeton-Beschichtung
DESCRIPTION:Phase: Ausschreibung | Beschreibung: Angebote werden eingeholt | Link: https://ausschreibungsradar.com/ausschreibung/25cf98ca-f8a8-495b-97fc-67c78bb5b78d/
URL:https://ausschreibungsradar.com/ausschreibung/25cf98ca-f8a8-495b-97fc-67c78bb5b78d/
END:VEVENT
BEGIN:VEVENT
UID:a6f1ff7009903ddb@ausschreibungsradar.com
DTSTAMP:20260424T150743Z
DTSTART;VALUE=DATE:20260316
DTEND;VALUE=DATE:20260316
SUMMARY:Vergabeergebnis — Um- und Neubau Rathaus Grefrath - Sichtbeton-Beschichtung
DESCRIPTION:Phase: Vergabeergebnis | Beschreibung: Auftrag wurde zugeschlagen | Link: https://ausschreibungsradar.com/ausschreibung/7a3c7d15-a926-4630-98d1-2f394fbfd8a1/
URL:https://ausschreibungsradar.com/ausschreibung/7a3c7d15-a926-4630-98d1-2f394fbfd8a1/
END:VEVENT
END:VCALENDAR
