BEGIN:VCALENDAR
VERSION:2.0
PRODID:-//AusschreibungsRadar//Timeline//DE
CALSCALE:GREGORIAN
METHOD:PUBLISH
X-WR-CALNAME:Projekt BA II - Baumeisterarbeiten
X-WR-TIMEZONE:Europe/Berlin
BEGIN:VEVENT
UID:464feeee04a82e61@ausschreibungsradar.com
DTSTAMP:20260425T144121Z
DTSTART;VALUE=DATE:20250611
DTEND;VALUE=DATE:20250611
SUMMARY:Ausschreibung — BA II - Baumeisterarbeiten
DESCRIPTION:Phase: Ausschreibung | Beschreibung: Offizielle Ausschreibung mit Bieterfrist. | Link: https://ausschreibungsradar.com/ausschreibung/cf6ef872-d7b6-474a-93d5-a0fe8c8e77ef/
URL:https://ausschreibungsradar.com/ausschreibung/cf6ef872-d7b6-474a-93d5-a0fe8c8e77ef/
END:VEVENT
BEGIN:VEVENT
UID:899ee97b5f41865f@ausschreibungsradar.com
DTSTAMP:20260425T144121Z
DTSTART;VALUE=DATE:20250717
DTEND;VALUE=DATE:20250717
SUMMARY:Angebotsfrist — BA II - Baumeisterarbeiten
DESCRIPTION:Phase: Ausschreibung | Beschreibung: Angebote werden eingeholt | Link: https://ausschreibungsradar.com/ausschreibung/25eca5d8-6f77-4061-a7b2-18e457b7649e/
URL:https://ausschreibungsradar.com/ausschreibung/25eca5d8-6f77-4061-a7b2-18e457b7649e/
END:VEVENT
END:VCALENDAR
