BEGIN:VCALENDAR
VERSION:2.0
PRODID:-//AusschreibungsRadar//Timeline//DE
CALSCALE:GREGORIAN
METHOD:PUBLISH
X-WR-CALNAME:Projekt Sanierung und Erweiterung des Kindergartens „Am Bremig“ Rott
X-WR-TIMEZONE:Europe/Berlin
BEGIN:VEVENT
UID:b18e3da6033bfaf6@ausschreibungsradar.com
DTSTAMP:20260424T155443Z
DTSTART;VALUE=DATE:20240516
DTEND;VALUE=DATE:20240516
SUMMARY:Zuschlag — Sanierung und Erweiterung des Kindergartens „Am Bremig“ Rott
DESCRIPTION:Phase: Zuschlag | Beschreibung: Vergabeergebnis — Auftrag wurde erteilt oder Verfahren beendet. | Link: https://ausschreibungsradar.com/ausschreibung/9f0f6fc7-2022-4365-ad3e-a8f4d0a34daa/
URL:https://ausschreibungsradar.com/ausschreibung/9f0f6fc7-2022-4365-ad3e-a8f4d0a34daa/
END:VEVENT
BEGIN:VEVENT
UID:623f41428d8ebdb9@ausschreibungsradar.com
DTSTAMP:20260424T155443Z
DTSTART;VALUE=DATE:20240614
DTEND;VALUE=DATE:20240614
SUMMARY:Ausschreibung — Sanierung und Erweiterung des Kindergartens „Am Bremig“ Rott
DESCRIPTION:Phase: Ausschreibung | Beschreibung: Angebote werden eingeholt | Link: https://ausschreibungsradar.com/ausschreibung/25ecd243-435a-48d1-837f-807136a2f23f/
URL:https://ausschreibungsradar.com/ausschreibung/25ecd243-435a-48d1-837f-807136a2f23f/
END:VEVENT
BEGIN:VEVENT
UID:798f2c55cdb41326@ausschreibungsradar.com
DTSTAMP:20260424T155443Z
DTSTART;VALUE=DATE:20250306
DTEND;VALUE=DATE:20250306
SUMMARY:Vergabeergebnis — Sanierung und Erweiterung des Kindergartens „Am Bremig“ Rott
DESCRIPTION:Phase: Vergabeergebnis | Beschreibung: Auftrag wurde zugeschlagen | Link: https://ausschreibungsradar.com/ausschreibung/f640b0ab-a206-4a10-bb56-5b201a55494e/
URL:https://ausschreibungsradar.com/ausschreibung/f640b0ab-a206-4a10-bb56-5b201a55494e/
END:VEVENT
END:VCALENDAR
