BEGIN:VCALENDAR
VERSION:2.0
PRODID:-//AusschreibungsRadar//Timeline//DE
CALSCALE:GREGORIAN
METHOD:PUBLISH
X-WR-CALNAME:Projekt Lieferung und Einführung eines Patientenportals mit den Bere
X-WR-TIMEZONE:Europe/Berlin
BEGIN:VEVENT
UID:ec93fbe43d5affbe@ausschreibungsradar.com
DTSTAMP:20260425T154927Z
DTSTART;VALUE=DATE:20241202
DTEND;VALUE=DATE:20241202
SUMMARY:Ausschreibung — Lieferung und Einführung eines Patientenportals mit den Bere
DESCRIPTION:Phase: Ausschreibung | Beschreibung: Angebote werden eingeholt | Link: https://ausschreibungsradar.com/ausschreibung/25fdb45b-1588-4c99-a1d6-e1ff6b56879d/
URL:https://ausschreibungsradar.com/ausschreibung/25fdb45b-1588-4c99-a1d6-e1ff6b56879d/
END:VEVENT
BEGIN:VEVENT
UID:a41f5685cfd7d9b1@ausschreibungsradar.com
DTSTAMP:20260425T154927Z
DTSTART;VALUE=DATE:20241202
DTEND;VALUE=DATE:20241202
SUMMARY:Ausschreibung — Lieferung und Einführung eines Patientenportals mit den Bere
DESCRIPTION:Phase: Ausschreibung | Beschreibung: Offizielle Ausschreibung mit Bieterfrist. | Link: https://ausschreibungsradar.com/ausschreibung/095a95fe-6e98-4cdc-944b-835dfd673594/
URL:https://ausschreibungsradar.com/ausschreibung/095a95fe-6e98-4cdc-944b-835dfd673594/
END:VEVENT
BEGIN:VEVENT
UID:8143ac153f9299b1@ausschreibungsradar.com
DTSTAMP:20260425T154927Z
DTSTART;VALUE=DATE:20250814
DTEND;VALUE=DATE:20250814
SUMMARY:Vergabeergebnis — Lieferung und Einführung eines Patientenportals mit den Bere
DESCRIPTION:Phase: Vergabeergebnis | Beschreibung: Auftrag wurde zugeschlagen | Link: https://ausschreibungsradar.com/ausschreibung/baf2f3f4-c3bc-48ad-bad2-4f8408e40f58/
URL:https://ausschreibungsradar.com/ausschreibung/baf2f3f4-c3bc-48ad-bad2-4f8408e40f58/
END:VEVENT
END:VCALENDAR
