BEGIN:VCALENDAR
VERSION:2.0
PRODID:-//AusschreibungsRadar//Timeline//DE
CALSCALE:GREGORIAN
METHOD:PUBLISH
X-WR-CALNAME:Projekt Hemden und Blusen für Polizei und Justiz BRB und BLN
X-WR-TIMEZONE:Europe/Berlin
BEGIN:VEVENT
UID:d5a0f7cd3e2b708d@ausschreibungsradar.com
DTSTAMP:20260425T115327Z
DTSTART;VALUE=DATE:20250416
DTEND;VALUE=DATE:20250416
SUMMARY:Angebotsfrist — Hemden und Blusen für Polizei und Justiz BRB und BLN
DESCRIPTION:Phase: Ausschreibung | Beschreibung: Angebote werden eingeholt | Link: https://ausschreibungsradar.com/ausschreibung/b066ec1e-b9db-443e-b025-5043b7d0536d/
URL:https://ausschreibungsradar.com/ausschreibung/b066ec1e-b9db-443e-b025-5043b7d0536d/
END:VEVENT
BEGIN:VEVENT
UID:cf5383975f9525f2@ausschreibungsradar.com
DTSTAMP:20260425T115327Z
DTSTART;VALUE=DATE:20250730
DTEND;VALUE=DATE:20250730
SUMMARY:Vergabeergebnis — Hemden und Blusen für Polizei und Justiz BRB und BLN
DESCRIPTION:Phase: Vergabeergebnis | Beschreibung: Auftrag wurde zugeschlagen | Link: https://ausschreibungsradar.com/ausschreibung/268b49a9-0c2e-4da9-8c95-0a929f357c1f/
URL:https://ausschreibungsradar.com/ausschreibung/268b49a9-0c2e-4da9-8c95-0a929f357c1f/
END:VEVENT
END:VCALENDAR
