BEGIN:VCALENDAR
VERSION:2.0
PRODID:-//AusschreibungsRadar//Timeline//DE
CALSCALE:GREGORIAN
METHOD:PUBLISH
X-WR-CALNAME:Projekt Marktgemeinde Philippsthal (Werra) - Neubau einer Kindertage
X-WR-TIMEZONE:Europe/Berlin
BEGIN:VEVENT
UID:70ebf389fc4a19e0@ausschreibungsradar.com
DTSTAMP:20260426T010226Z
DTSTART;VALUE=DATE:20251209
DTEND;VALUE=DATE:20251209
SUMMARY:Angebotsfrist — Marktgemeinde Philippsthal (Werra) - Neubau einer Kindertage
DESCRIPTION:Phase: Ausschreibung | Beschreibung: Angebote werden eingeholt | Link: https://ausschreibungsradar.com/ausschreibung/bdc39e44-bb0f-4954-9cbd-49d6f60616e8/
URL:https://ausschreibungsradar.com/ausschreibung/bdc39e44-bb0f-4954-9cbd-49d6f60616e8/
END:VEVENT
BEGIN:VEVENT
UID:58304b465efc5699@ausschreibungsradar.com
DTSTAMP:20260426T010226Z
DTSTART;VALUE=DATE:20260104
DTEND;VALUE=DATE:20260104
SUMMARY:Vergabeergebnis — Marktgemeinde Philippsthal (Werra) - Neubau einer Kindertage
DESCRIPTION:Phase: Vergabeergebnis | Beschreibung: Auftrag wurde zugeschlagen | Link: https://ausschreibungsradar.com/ausschreibung/26b70b9c-0fbc-40f5-9f0c-d3dc845622de/
URL:https://ausschreibungsradar.com/ausschreibung/26b70b9c-0fbc-40f5-9f0c-d3dc845622de/
END:VEVENT
BEGIN:VEVENT
UID:9cd0306acc0c792e@ausschreibungsradar.com
DTSTAMP:20260426T010226Z
DTSTART;VALUE=DATE:20260104
DTEND;VALUE=DATE:20260104
SUMMARY:Zuschlag — Marktgemeinde Philippsthal (Werra) - Neubau einer Kindertage
DESCRIPTION:Phase: Zuschlag | Beschreibung: Vergabeergebnis — Auftrag wurde erteilt oder Verfahren beendet. | Link: https://ausschreibungsradar.com/ausschreibung/9e732fc2-da97-4c9d-a8de-0834e59d18bc/
URL:https://ausschreibungsradar.com/ausschreibung/9e732fc2-da97-4c9d-a8de-0834e59d18bc/
END:VEVENT
BEGIN:VEVENT
UID:5e941c5401759691@ausschreibungsradar.com
DTSTAMP:20260426T010226Z
DTSTART;VALUE=DATE:20260114
DTEND;VALUE=DATE:20260114
SUMMARY:Ausschreibung — Marktgemeinde Philippsthal (Werra) - Neubau einer Kindertage
DESCRIPTION:Phase: Ausschreibung | Beschreibung: Offizielle Ausschreibung mit Bieterfrist. | Link: https://ausschreibungsradar.com/ausschreibung/0bbe7541-6c57-4d71-8228-64a2b50cdf1e/
URL:https://ausschreibungsradar.com/ausschreibung/0bbe7541-6c57-4d71-8228-64a2b50cdf1e/
END:VEVENT
END:VCALENDAR
