BEGIN:VCALENDAR
VERSION:2.0
PRODID:-//AusschreibungsRadar//Timeline//DE
CALSCALE:GREGORIAN
METHOD:PUBLISH
X-WR-CALNAME:Projekt Neubau Bildungscampus Großrinderfeld - Brandmeldeanlage
X-WR-TIMEZONE:Europe/Berlin
BEGIN:VEVENT
UID:cf53dc38ee362838@ausschreibungsradar.com
DTSTAMP:20260425T131512Z
DTSTART;VALUE=DATE:20251103
DTEND;VALUE=DATE:20251103
SUMMARY:Angebotsfrist — Neubau Bildungscampus Großrinderfeld - Brandmeldeanlage
DESCRIPTION:Phase: Ausschreibung | Beschreibung: Angebote werden eingeholt | Link: https://ausschreibungsradar.com/ausschreibung/60d7a2ab-bdb3-4bd8-8a1a-198965fc1f36/
URL:https://ausschreibungsradar.com/ausschreibung/60d7a2ab-bdb3-4bd8-8a1a-198965fc1f36/
END:VEVENT
BEGIN:VEVENT
UID:197004b404585b64@ausschreibungsradar.com
DTSTAMP:20260425T131512Z
DTSTART;VALUE=DATE:20260109
DTEND;VALUE=DATE:20260109
SUMMARY:Vergabeergebnis — Neubau Bildungscampus Großrinderfeld - Brandmeldeanlage
DESCRIPTION:Phase: Vergabeergebnis | Beschreibung: Auftrag wurde zugeschlagen | Link: https://ausschreibungsradar.com/ausschreibung/2764a9ad-94a0-4d60-8be7-4f4d96e5f58c/
URL:https://ausschreibungsradar.com/ausschreibung/2764a9ad-94a0-4d60-8be7-4f4d96e5f58c/
END:VEVENT
BEGIN:VEVENT
UID:d40c09db09f9e123@ausschreibungsradar.com
DTSTAMP:20260425T131512Z
DTSTART;VALUE=DATE:20260109
DTEND;VALUE=DATE:20260109
SUMMARY:Zuschlag — Neubau Bildungscampus Großrinderfeld - Brandmeldeanlage
DESCRIPTION:Phase: Zuschlag | Beschreibung: Vergabeergebnis — Auftrag wurde erteilt oder Verfahren beendet. | Link: https://ausschreibungsradar.com/ausschreibung/947ed962-8a5f-47eb-af16-61bb4f3b0d3e/
URL:https://ausschreibungsradar.com/ausschreibung/947ed962-8a5f-47eb-af16-61bb4f3b0d3e/
END:VEVENT
END:VCALENDAR
