BEGIN:VCALENDAR
VERSION:2.0
PRODID:-//AusschreibungsRadar//Timeline//DE
CALSCALE:GREGORIAN
METHOD:PUBLISH
X-WR-CALNAME:Projekt Dachdichtungsarbeiten BA 1 und BA 2
X-WR-TIMEZONE:Europe/Berlin
BEGIN:VEVENT
UID:35e668bd2424232f@ausschreibungsradar.com
DTSTAMP:20260425T213524Z
DTSTART;VALUE=DATE:20260122
DTEND;VALUE=DATE:20260122
SUMMARY:Angebotsfrist — Dachdichtungsarbeiten BA 1 und BA 2
DESCRIPTION:Phase: Ausschreibung | Beschreibung: Angebote werden eingeholt | Link: https://ausschreibungsradar.com/ausschreibung/539c6440-6bcb-4640-af90-26543c393153/
URL:https://ausschreibungsradar.com/ausschreibung/539c6440-6bcb-4640-af90-26543c393153/
END:VEVENT
BEGIN:VEVENT
UID:2ccd2125c5d95c45@ausschreibungsradar.com
DTSTAMP:20260425T213524Z
DTSTART;VALUE=DATE:20260410
DTEND;VALUE=DATE:20260410
SUMMARY:Vergabeergebnis — Dachdichtungsarbeiten BA 1 und BA 2
DESCRIPTION:Phase: Vergabeergebnis | Beschreibung: Auftrag wurde zugeschlagen | Link: https://ausschreibungsradar.com/ausschreibung/279629d7-a300-4987-9f37-69faabbe38d6/ | Auftragnehmer: Tahedl Dach + Wand GmbH |
URL:https://ausschreibungsradar.com/ausschreibung/279629d7-a300-4987-9f37-69faabbe38d6/
END:VEVENT
END:VCALENDAR
