BEGIN:VCALENDAR
VERSION:2.0
PRODID:-//AusschreibungsRadar//Timeline//DE
CALSCALE:GREGORIAN
METHOD:PUBLISH
X-WR-CALNAME:Projekt Sanierung Theodor-Heuss-Grundschula Landstuhl - TGA
X-WR-TIMEZONE:Europe/Berlin
BEGIN:VEVENT
UID:9cec61e98390b5b0@ausschreibungsradar.com
DTSTAMP:20260423T230054Z
DTSTART;VALUE=DATE:20240321
DTEND;VALUE=DATE:20240321
SUMMARY:Ausschreibung — Sanierung Theodor-Heuss-Grundschula Landstuhl - TGA
DESCRIPTION:Phase: Ausschreibung | Beschreibung: Angebote werden eingeholt | Link: https://ausschreibungsradar.com/ausschreibung/6f0bb79e-e803-48e3-bf24-b6d8120fa916/
URL:https://ausschreibungsradar.com/ausschreibung/6f0bb79e-e803-48e3-bf24-b6d8120fa916/
END:VEVENT
BEGIN:VEVENT
UID:027609644e9aa15c@ausschreibungsradar.com
DTSTAMP:20260423T230054Z
DTSTART;VALUE=DATE:20241114
DTEND;VALUE=DATE:20241114
SUMMARY:Vergabeergebnis — Sanierung Theodor-Heuss-Grundschula Landstuhl - TGA
DESCRIPTION:Phase: Vergabeergebnis | Beschreibung: Auftrag wurde zugeschlagen | Link: https://ausschreibungsradar.com/ausschreibung/279e0560-6501-4b96-a8ff-455d0baeeb77/
URL:https://ausschreibungsradar.com/ausschreibung/279e0560-6501-4b96-a8ff-455d0baeeb77/
END:VEVENT
BEGIN:VEVENT
UID:e46eab49f7e7a5de@ausschreibungsradar.com
DTSTAMP:20260423T230054Z
DTSTART;VALUE=DATE:20241114
DTEND;VALUE=DATE:20241114
SUMMARY:Zuschlag — Sanierung Theodor-Heuss-Grundschula Landstuhl - TGA
DESCRIPTION:Phase: Zuschlag | Beschreibung: Vergabeergebnis — Auftrag wurde erteilt oder Verfahren beendet. | Link: https://ausschreibungsradar.com/ausschreibung/9a9828ec-d268-4cf7-a48d-4e72eab1691f/
URL:https://ausschreibungsradar.com/ausschreibung/9a9828ec-d268-4cf7-a48d-4e72eab1691f/
END:VEVENT
BEGIN:VEVENT
UID:54aafee1d91f39a9@ausschreibungsradar.com
DTSTAMP:20260423T230054Z
DTSTART;VALUE=DATE:20241114
DTEND;VALUE=DATE:20241114
SUMMARY:Zuschlag — Sanierung Theodor-Heuss-Grundschula Landstuhl - TGA
DESCRIPTION:Phase: Zuschlag | Beschreibung: Vergabeergebnis — Auftrag wurde erteilt oder Verfahren beendet. | Link: https://ausschreibungsradar.com/ausschreibung/75dde61e-a5bc-4e0a-9973-c7e5e2117d2d/
URL:https://ausschreibungsradar.com/ausschreibung/75dde61e-a5bc-4e0a-9973-c7e5e2117d2d/
END:VEVENT
END:VCALENDAR
