BEGIN:VCALENDAR
VERSION:2.0
PRODID:-//AusschreibungsRadar//Timeline//DE
CALSCALE:GREGORIAN
METHOD:PUBLISH
X-WR-CALNAME:Projekt Neubau einer Einfachturnhalle mit Freisportanlagen an der Gr
X-WR-TIMEZONE:Europe/Berlin
BEGIN:VEVENT
UID:0337857c7bdca6e4@ausschreibungsradar.com
DTSTAMP:20260425T221407Z
DTSTART;VALUE=DATE:20250402
DTEND;VALUE=DATE:20250402
SUMMARY:Ausschreibung — Neubau einer Einfachturnhalle mit Freisportanlagen an der Gr
DESCRIPTION:Phase: Ausschreibung | Beschreibung: Offizielle Ausschreibung mit Bieterfrist. | Link: https://ausschreibungsradar.com/ausschreibung/e4c83c34-3d7d-4ba4-b065-c3e280dc4ce4/
URL:https://ausschreibungsradar.com/ausschreibung/e4c83c34-3d7d-4ba4-b065-c3e280dc4ce4/
END:VEVENT
BEGIN:VEVENT
UID:d6571d15254d7dbd@ausschreibungsradar.com
DTSTAMP:20260425T221407Z
DTSTART;VALUE=DATE:20250523
DTEND;VALUE=DATE:20250523
SUMMARY:Angebotsfrist — Neubau einer Einfachturnhalle mit Freisportanlagen an der Gr
DESCRIPTION:Phase: Ausschreibung | Beschreibung: Angebote werden eingeholt | Link: https://ausschreibungsradar.com/ausschreibung/27c7f368-751a-40c4-934c-57fad4bfb583/
URL:https://ausschreibungsradar.com/ausschreibung/27c7f368-751a-40c4-934c-57fad4bfb583/
END:VEVENT
END:VCALENDAR
