BEGIN:VCALENDAR
VERSION:2.0
PRODID:-//AusschreibungsRadar//Timeline//DE
CALSCALE:GREGORIAN
METHOD:PUBLISH
X-WR-CALNAME:Projekt Rahmenvereinbarung über die Lieferung von Mineralboden als S
X-WR-TIMEZONE:Europe/Berlin
BEGIN:VEVENT
UID:2cd80f1528dcbc3f@ausschreibungsradar.com
DTSTAMP:20260425T214529Z
DTSTART;VALUE=DATE:20250819
DTEND;VALUE=DATE:20250819
SUMMARY:Ausschreibung — Rahmenvereinbarung über die Lieferung von Mineralboden als S
DESCRIPTION:Phase: Ausschreibung | Beschreibung: Offizielle Ausschreibung mit Bieterfrist. | Link: https://ausschreibungsradar.com/ausschreibung/74f39b72-a7f1-4885-b220-d1af2bad886c/
URL:https://ausschreibungsradar.com/ausschreibung/74f39b72-a7f1-4885-b220-d1af2bad886c/
END:VEVENT
BEGIN:VEVENT
UID:5c7351a359187f59@ausschreibungsradar.com
DTSTAMP:20260425T214529Z
DTSTART;VALUE=DATE:20251017
DTEND;VALUE=DATE:20251017
SUMMARY:Angebotsfrist — Rahmenvereinbarung über die Lieferung von Mineralboden als S
DESCRIPTION:Phase: Ausschreibung | Beschreibung: Angebote werden eingeholt | Link: https://ausschreibungsradar.com/ausschreibung/27ecfaba-5145-4537-810e-02f34bb796ee/
URL:https://ausschreibungsradar.com/ausschreibung/27ecfaba-5145-4537-810e-02f34bb796ee/
END:VEVENT
BEGIN:VEVENT
UID:9a6c5f75c0310929@ausschreibungsradar.com
DTSTAMP:20260425T214529Z
DTSTART;VALUE=DATE:20251125
DTEND;VALUE=DATE:20251125
SUMMARY:Vergabeergebnis — Rahmenvereinbarung über die Lieferung von Mineralboden als S
DESCRIPTION:Phase: Vergabeergebnis | Beschreibung: Alle Angebote ausgeschlossen | Link: https://ausschreibungsradar.com/ausschreibung/40ff21f1-7bb3-4518-a668-557c0870822c/
URL:https://ausschreibungsradar.com/ausschreibung/40ff21f1-7bb3-4518-a668-557c0870822c/
END:VEVENT
END:VCALENDAR
