BEGIN:VCALENDAR
VERSION:2.0
PRODID:-//AusschreibungsRadar//Timeline//DE
CALSCALE:GREGORIAN
METHOD:PUBLISH
X-WR-CALNAME:Projekt Neubau GS Westercelle-Innenliegende Rollo-, Gardinen- u. Vor
X-WR-TIMEZONE:Europe/Berlin
BEGIN:VEVENT
UID:d32557895efa3fef@ausschreibungsradar.com
DTSTAMP:20260425T202516Z
DTSTART;VALUE=DATE:20241024
DTEND;VALUE=DATE:20241024
SUMMARY:Angebotsfrist — Neubau GS Westercelle-Innenliegende Rollo-\, Gardinen- u. Vor
DESCRIPTION:Phase: Ausschreibung | Beschreibung: Angebote werden eingeholt | Link: https://ausschreibungsradar.com/ausschreibung/280acd79-064a-4d34-9438-a16352b17db3/
URL:https://ausschreibungsradar.com/ausschreibung/280acd79-064a-4d34-9438-a16352b17db3/
END:VEVENT
END:VCALENDAR
