BEGIN:VCALENDAR
VERSION:2.0
PRODID:-//AusschreibungsRadar//Timeline//DE
CALSCALE:GREGORIAN
METHOD:PUBLISH
X-WR-CALNAME:Projekt Lüftung
X-WR-TIMEZONE:Europe/Berlin
BEGIN:VEVENT
UID:33ccf087e27351a7@ausschreibungsradar.com
DTSTAMP:20260425T180822Z
DTSTART;VALUE=DATE:20250428
DTEND;VALUE=DATE:20250428
SUMMARY:Angebotsfrist — Lüftung
DESCRIPTION:Phase: Ausschreibung | Beschreibung: Angebote werden eingeholt | Link: https://ausschreibungsradar.com/ausschreibung/281dd9af-8b94-46fc-b800-13040e87c84e/
URL:https://ausschreibungsradar.com/ausschreibung/281dd9af-8b94-46fc-b800-13040e87c84e/
END:VEVENT
BEGIN:VEVENT
UID:58ec4f04f63cf1cb@ausschreibungsradar.com
DTSTAMP:20260425T180822Z
DTSTART;VALUE=DATE:20250328
DTEND;VALUE=DATE:20250328
SUMMARY:Ausschreibung — Lüftung
DESCRIPTION:Phase: Ausschreibung | Beschreibung: Offizielle Ausschreibung mit Bieterfrist. | Link: https://ausschreibungsradar.com/ausschreibung/6b9483e7-973e-488b-91ce-bcf2c420969f/
URL:https://ausschreibungsradar.com/ausschreibung/6b9483e7-973e-488b-91ce-bcf2c420969f/
END:VEVENT
BEGIN:VEVENT
UID:ebd18e8e8eb712a2@ausschreibungsradar.com
DTSTAMP:20260425T180822Z
DTSTART;VALUE=DATE:20250612
DTEND;VALUE=DATE:20250612
SUMMARY:Vergabeergebnis — Lüftung
DESCRIPTION:Phase: Vergabeergebnis | Beschreibung: Auftrag wurde zugeschlagen | Link: https://ausschreibungsradar.com/ausschreibung/d41c1130-535f-4458-acf1-4e90c5a8424a/ | Auftragnehmer: Rixner Brochier Gebäudete
URL:https://ausschreibungsradar.com/ausschreibung/d41c1130-535f-4458-acf1-4e90c5a8424a/
END:VEVENT
END:VCALENDAR
