BEGIN:VCALENDAR
VERSION:2.0
PRODID:-//AusschreibungsRadar//Timeline//DE
CALSCALE:GREGORIAN
METHOD:PUBLISH
X-WR-CALNAME:Projekt Umsetzung des Einstiegsinstruments für SuS ab der Jahrgangss
X-WR-TIMEZONE:Europe/Berlin
BEGIN:VEVENT
UID:f2ae01aff460e2d8@ausschreibungsradar.com
DTSTAMP:20260424T090858Z
DTSTART;VALUE=DATE:20250306
DTEND;VALUE=DATE:20250306
SUMMARY:Angebotsfrist — Umsetzung des Einstiegsinstruments für SuS ab der Jahrgangss
DESCRIPTION:Phase: Ausschreibung | Beschreibung: Angebote werden eingeholt | Link: https://ausschreibungsradar.com/ausschreibung/289ad670-e09e-42ee-9ed2-a43bdaeec860/
URL:https://ausschreibungsradar.com/ausschreibung/289ad670-e09e-42ee-9ed2-a43bdaeec860/
END:VEVENT
BEGIN:VEVENT
UID:af658138d4734822@ausschreibungsradar.com
DTSTAMP:20260424T090858Z
DTSTART;VALUE=DATE:20250130
DTEND;VALUE=DATE:20250130
SUMMARY:Ausschreibung — Umsetzung des Einstiegsinstruments für SuS ab der Jahrgangss
DESCRIPTION:Phase: Ausschreibung | Beschreibung: Offizielle Ausschreibung mit Bieterfrist. | Link: https://ausschreibungsradar.com/ausschreibung/0ff3087a-d58b-4088-8e74-d8103738d19b/
URL:https://ausschreibungsradar.com/ausschreibung/0ff3087a-d58b-4088-8e74-d8103738d19b/
END:VEVENT
BEGIN:VEVENT
UID:5b8ac35d93d5e8c2@ausschreibungsradar.com
DTSTAMP:20260424T090858Z
DTSTART;VALUE=DATE:20250130
DTEND;VALUE=DATE:20250130
SUMMARY:Ausschreibung — Umsetzung des Einstiegsinstruments für SuS ab der Jahrgangss
DESCRIPTION:Phase: Ausschreibung | Beschreibung: Offizielle Ausschreibung mit Bieterfrist. | Link: https://ausschreibungsradar.com/ausschreibung/a9a4a38a-eb73-4856-9f3c-73327c6f4b39/
URL:https://ausschreibungsradar.com/ausschreibung/a9a4a38a-eb73-4856-9f3c-73327c6f4b39/
END:VEVENT
BEGIN:VEVENT
UID:b9467014de358dbe@ausschreibungsradar.com
DTSTAMP:20260424T090858Z
DTSTART;VALUE=DATE:20250130
DTEND;VALUE=DATE:20250130
SUMMARY:Ausschreibung — Umsetzung des Einstiegsinstruments für SuS ab der Jahrgangss
DESCRIPTION:Phase: Ausschreibung | Beschreibung: Offizielle Ausschreibung mit Bieterfrist. | Link: https://ausschreibungsradar.com/ausschreibung/7b64d8df-5103-44df-aa62-c7d31310fc7b/
URL:https://ausschreibungsradar.com/ausschreibung/7b64d8df-5103-44df-aa62-c7d31310fc7b/
END:VEVENT
BEGIN:VEVENT
UID:4f4daae016d22914@ausschreibungsradar.com
DTSTAMP:20260424T090858Z
DTSTART;VALUE=DATE:20251210
DTEND;VALUE=DATE:20251210
SUMMARY:Vergabeergebnis — Umsetzung des Einstiegsinstruments für SuS ab der Jahrgangss
DESCRIPTION:Phase: Vergabeergebnis | Beschreibung: Auftrag wurde zugeschlagen | Link: https://ausschreibungsradar.com/ausschreibung/51162ad2-35a4-4e65-a145-306faec1c878/
URL:https://ausschreibungsradar.com/ausschreibung/51162ad2-35a4-4e65-a145-306faec1c878/
END:VEVENT
END:VCALENDAR
