BEGIN:VCALENDAR
VERSION:2.0
PRODID:-//AusschreibungsRadar//Timeline//DE
CALSCALE:GREGORIAN
METHOD:PUBLISH
X-WR-CALNAME:Projekt Metallbauarbeiten - Brandschutztüren
X-WR-TIMEZONE:Europe/Berlin
BEGIN:VEVENT
UID:b75d6d7ca5d1468c@ausschreibungsradar.com
DTSTAMP:20260424T035039Z
DTSTART;VALUE=DATE:20260205
DTEND;VALUE=DATE:20260205
SUMMARY:Angebotsfrist — Metallbauarbeiten - Brandschutztüren
DESCRIPTION:Phase: Ausschreibung | Beschreibung: Angebote werden eingeholt | Link: https://ausschreibungsradar.com/ausschreibung/28aec3c9-0aa4-4c26-8f2d-3c4e2557ee06/
URL:https://ausschreibungsradar.com/ausschreibung/28aec3c9-0aa4-4c26-8f2d-3c4e2557ee06/
END:VEVENT
BEGIN:VEVENT
UID:95ec6500437f5e96@ausschreibungsradar.com
DTSTAMP:20260424T035039Z
DTSTART;VALUE=DATE:20251202
DTEND;VALUE=DATE:20251202
SUMMARY:Ausschreibung — Metallbauarbeiten - Brandschutztüren
DESCRIPTION:Phase: Ausschreibung | Beschreibung: Offizielle Ausschreibung mit Bieterfrist. | Link: https://ausschreibungsradar.com/ausschreibung/b9b5152b-c1c5-489d-930f-0780305bfc26/
URL:https://ausschreibungsradar.com/ausschreibung/b9b5152b-c1c5-489d-930f-0780305bfc26/
END:VEVENT
BEGIN:VEVENT
UID:f57f4e280df65301@ausschreibungsradar.com
DTSTAMP:20260424T035039Z
DTSTART;VALUE=DATE:20251202
DTEND;VALUE=DATE:20251202
SUMMARY:Ausschreibung — Metallbauarbeiten - Brandschutztüren
DESCRIPTION:Phase: Ausschreibung | Beschreibung: Offizielle Ausschreibung mit Bieterfrist. | Link: https://ausschreibungsradar.com/ausschreibung/7e27c089-784c-451c-8573-042540cc0190/
URL:https://ausschreibungsradar.com/ausschreibung/7e27c089-784c-451c-8573-042540cc0190/
END:VEVENT
BEGIN:VEVENT
UID:ff26b3ec6680f4ae@ausschreibungsradar.com
DTSTAMP:20260424T035039Z
DTSTART;VALUE=DATE:20260327
DTEND;VALUE=DATE:20260327
SUMMARY:Vergabeergebnis — Metallbauarbeiten - Brandschutztüren
DESCRIPTION:Phase: Vergabeergebnis | Beschreibung: Auftrag wurde zugeschlagen | Link: https://ausschreibungsradar.com/ausschreibung/bcf65a72-ed18-40f8-ada0-0482712d8017/ | Auftragnehmer: BKM Mihla GmbH
URL:https://ausschreibungsradar.com/ausschreibung/bcf65a72-ed18-40f8-ada0-0482712d8017/
END:VEVENT
END:VCALENDAR
