BEGIN:VCALENDAR
VERSION:2.0
PRODID:-//AusschreibungsRadar//Timeline//DE
CALSCALE:GREGORIAN
METHOD:PUBLISH
X-WR-CALNAME:Projekt Am Pferdemarkt 23- 26, SÖR Neubau Betriebszentrale, Rüttelbo
X-WR-TIMEZONE:Europe/Berlin
BEGIN:VEVENT
UID:815952a40b0e26ac@ausschreibungsradar.com
DTSTAMP:20260425T132006Z
DTSTART;VALUE=DATE:20250805
DTEND;VALUE=DATE:20250805
SUMMARY:Ausschreibung — Am Pferdemarkt 23- 26\, SÖR Neubau Betriebszentrale\, Rüttelbo
DESCRIPTION:Phase: Ausschreibung | Beschreibung: Angebote werden eingeholt | Link: https://ausschreibungsradar.com/ausschreibung/28aece44-ec06-46a4-acff-91489947a522/
URL:https://ausschreibungsradar.com/ausschreibung/28aece44-ec06-46a4-acff-91489947a522/
END:VEVENT
BEGIN:VEVENT
UID:3bad9e352af12fc5@ausschreibungsradar.com
DTSTAMP:20260425T132006Z
DTSTART;VALUE=DATE:20250805
DTEND;VALUE=DATE:20250805
SUMMARY:Ausschreibung — Am Pferdemarkt 23- 26\, SÖR Neubau Betriebszentrale\, Rüttelbo
DESCRIPTION:Phase: Ausschreibung | Beschreibung: Offizielle Ausschreibung mit Bieterfrist. | Link: https://ausschreibungsradar.com/ausschreibung/e0c61140-28bb-4914-99a9-4972b6d2b54c/
URL:https://ausschreibungsradar.com/ausschreibung/e0c61140-28bb-4914-99a9-4972b6d2b54c/
END:VEVENT
BEGIN:VEVENT
UID:8412020bf8ab85a6@ausschreibungsradar.com
DTSTAMP:20260425T132006Z
DTSTART;VALUE=DATE:20250827
DTEND;VALUE=DATE:20250827
SUMMARY:Vergabeergebnis — Am Pferdemarkt 23- 26\, SÖR Neubau Betriebszentrale\, Rüttelbo
DESCRIPTION:Phase: Vergabeergebnis | Beschreibung: Bedarf hat sich geändert | Link: https://ausschreibungsradar.com/ausschreibung/5b27062d-5dfe-4614-8499-37e31c7d7836/
URL:https://ausschreibungsradar.com/ausschreibung/5b27062d-5dfe-4614-8499-37e31c7d7836/
END:VEVENT
BEGIN:VEVENT
UID:71a54b5cfe09a139@ausschreibungsradar.com
DTSTAMP:20260425T132006Z
DTSTART;VALUE=DATE:20250827
DTEND;VALUE=DATE:20250827
SUMMARY:Zuschlag — Am Pferdemarkt 23- 26\, SÖR Neubau Betriebszentrale\, Rüttelbo
DESCRIPTION:Phase: Zuschlag | Beschreibung: Vergabeergebnis — Auftrag wurde erteilt oder Verfahren beendet. | Link: https://ausschreibungsradar.com/ausschreibung/1343a891-41d6-4488-9ead-ac35e076531c/
URL:https://ausschreibungsradar.com/ausschreibung/1343a891-41d6-4488-9ead-ac35e076531c/
END:VEVENT
END:VCALENDAR
