BEGIN:VCALENDAR
VERSION:2.0
PRODID:-//AusschreibungsRadar//Timeline//DE
CALSCALE:GREGORIAN
METHOD:PUBLISH
X-WR-CALNAME:Projekt Regionale Stoffstromanalyse und Prüfung der Machbarkeit des 
X-WR-TIMEZONE:Europe/Berlin
BEGIN:VEVENT
UID:649c1c38f461be8b@ausschreibungsradar.com
DTSTAMP:20260424T001011Z
DTSTART;VALUE=DATE:20231201
DTEND;VALUE=DATE:20231201
SUMMARY:Ausschreibung — Regionale Stoffstromanalyse und Prüfung der Machbarkeit des 
DESCRIPTION:Phase: Ausschreibung | Beschreibung: Angebote werden eingeholt | Link: https://ausschreibungsradar.com/ausschreibung/28c8fb8a-b2d1-4ae9-99af-68abe77f7cd2/
URL:https://ausschreibungsradar.com/ausschreibung/28c8fb8a-b2d1-4ae9-99af-68abe77f7cd2/
END:VEVENT
BEGIN:VEVENT
UID:35030ab09acb01f8@ausschreibungsradar.com
DTSTAMP:20260424T001011Z
DTSTART;VALUE=DATE:20240514
DTEND;VALUE=DATE:20240514
SUMMARY:Vergabeergebnis — Regionale Stoffstromanalyse und Prüfung der Machbarkeit des 
DESCRIPTION:Phase: Vergabeergebnis | Beschreibung: Auftrag wurde zugeschlagen | Link: https://ausschreibungsradar.com/ausschreibung/6aade16c-bcb3-4d89-a3f6-edee202c642b/
URL:https://ausschreibungsradar.com/ausschreibung/6aade16c-bcb3-4d89-a3f6-edee202c642b/
END:VEVENT
END:VCALENDAR
