BEGIN:VCALENDAR
VERSION:2.0
PRODID:-//AusschreibungsRadar//Timeline//DE
CALSCALE:GREGORIAN
METHOD:PUBLISH
X-WR-CALNAME:Projekt Mittelschule Bischofswiesen - Schreinerei Akustik
X-WR-TIMEZONE:Europe/Berlin
BEGIN:VEVENT
UID:736e77ec39ddc75d@ausschreibungsradar.com
DTSTAMP:20260426T030217Z
DTSTART;VALUE=DATE:20231214
DTEND;VALUE=DATE:20231214
SUMMARY:Angebotsfrist — Mittelschule Bischofswiesen - Schreinerei Akustik
DESCRIPTION:Phase: Ausschreibung | Beschreibung: Angebote werden eingeholt | Link: https://ausschreibungsradar.com/ausschreibung/48ecf488-5204-42b8-b7ea-db8aff143260/
URL:https://ausschreibungsradar.com/ausschreibung/48ecf488-5204-42b8-b7ea-db8aff143260/
END:VEVENT
BEGIN:VEVENT
UID:13f5cb04a79b4502@ausschreibungsradar.com
DTSTAMP:20260426T030217Z
DTSTART;VALUE=DATE:20240221
DTEND;VALUE=DATE:20240221
SUMMARY:Ausschreibung — Mittelschule Bischofswiesen - Schreinerei Akustik
DESCRIPTION:Phase: Ausschreibung | Beschreibung: Offizielle Ausschreibung mit Bieterfrist. | Link: https://ausschreibungsradar.com/ausschreibung/1c16b0f5-b792-48f0-84e3-7e639bd90bfe/
URL:https://ausschreibungsradar.com/ausschreibung/1c16b0f5-b792-48f0-84e3-7e639bd90bfe/
END:VEVENT
BEGIN:VEVENT
UID:7c9c8f26c5e94992@ausschreibungsradar.com
DTSTAMP:20260426T030217Z
DTSTART;VALUE=DATE:20240315
DTEND;VALUE=DATE:20240315
SUMMARY:Vergabeergebnis — Mittelschule Bischofswiesen - Schreinerei Akustik
DESCRIPTION:Phase: Vergabeergebnis | Beschreibung: Auftrag wurde zugeschlagen | Link: https://ausschreibungsradar.com/ausschreibung/28d2c181-65c0-4131-a3ce-fb4208e21267/
URL:https://ausschreibungsradar.com/ausschreibung/28d2c181-65c0-4131-a3ce-fb4208e21267/
END:VEVENT
BEGIN:VEVENT
UID:ccbd7dc415dd76b8@ausschreibungsradar.com
DTSTAMP:20260426T030217Z
DTSTART;VALUE=DATE:20240318
DTEND;VALUE=DATE:20240318
SUMMARY:Zuschlag — Mittelschule Bischofswiesen - Schreinerei Akustik
DESCRIPTION:Phase: Zuschlag | Beschreibung: Vergabeergebnis — Auftrag wurde erteilt oder Verfahren beendet. | Link: https://ausschreibungsradar.com/ausschreibung/ted-160949-2024/
URL:https://ausschreibungsradar.com/ausschreibung/ted-160949-2024/
END:VEVENT
END:VCALENDAR
