BEGIN:VCALENDAR
VERSION:2.0
PRODID:-//AusschreibungsRadar//Timeline//DE
CALSCALE:GREGORIAN
METHOD:PUBLISH
X-WR-CALNAME:Projekt Beschaffung KV Waltershof 1 (ein) Bahnkran Containerterminal
X-WR-TIMEZONE:Europe/Berlin
BEGIN:VEVENT
UID:872c90746bad7aa2@ausschreibungsradar.com
DTSTAMP:20260424T150844Z
DTSTART;VALUE=DATE:20260526
DTEND;VALUE=DATE:20260526
SUMMARY:Angebotsfrist — Beschaffung KV Waltershof 1 (ein) Bahnkran Containerterminal
DESCRIPTION:Phase: Ausschreibung | Beschreibung: Angebote werden eingeholt | Link: https://ausschreibungsradar.com/ausschreibung/29262807-0bed-42b0-80d9-cb2f61a46469/
URL:https://ausschreibungsradar.com/ausschreibung/29262807-0bed-42b0-80d9-cb2f61a46469/
END:VEVENT
END:VCALENDAR
